BEGIN:VCALENDAR
VERSION:2.0
PRODID:-//Bevel Woodworking School - ECPv6.15.20//NONSGML v1.0//EN
CALSCALE:GREGORIAN
METHOD:PUBLISH
X-ORIGINAL-URL:https://www.bevelwoodworkingschool.com
X-WR-CALDESC:Events for Bevel Woodworking School
REFRESH-INTERVAL;VALUE=DURATION:PT1H
X-Robots-Tag:noindex
X-PUBLISHED-TTL:PT1H
BEGIN:VTIMEZONE
TZID:Europe/London
BEGIN:DAYLIGHT
TZOFFSETFROM:+0000
TZOFFSETTO:+0100
TZNAME:BST
DTSTART:20240331T010000
END:DAYLIGHT
BEGIN:STANDARD
TZOFFSETFROM:+0100
TZOFFSETTO:+0000
TZNAME:GMT
DTSTART:20241027T010000
END:STANDARD
BEGIN:DAYLIGHT
TZOFFSETFROM:+0000
TZOFFSETTO:+0100
TZNAME:BST
DTSTART:20250330T010000
END:DAYLIGHT
BEGIN:STANDARD
TZOFFSETFROM:+0100
TZOFFSETTO:+0000
TZNAME:GMT
DTSTART:20251026T010000
END:STANDARD
BEGIN:DAYLIGHT
TZOFFSETFROM:+0000
TZOFFSETTO:+0100
TZNAME:BST
DTSTART:20260329T010000
END:DAYLIGHT
BEGIN:STANDARD
TZOFFSETFROM:+0100
TZOFFSETTO:+0000
TZNAME:GMT
DTSTART:20261025T010000
END:STANDARD
END:VTIMEZONE
BEGIN:VEVENT
DTSTART;TZID=Europe/London:20250222T090000
DTEND;TZID=Europe/London:20250222T170000
DTSTAMP:20260422T231118
CREATED:20241106T125910Z
LAST-MODIFIED:20250219T170849Z
UID:10000547-1740214800-1740243600@www.bevelwoodworkingschool.com
SUMMARY:The Trug       22 February 2025  (Sunday)
DESCRIPTION:This is still a new one-day course. We have successfully trialled it with The Ramsgrange Mens Shed and we are happy to offer it now. \nThe Trug is a great beginners course. You will be learning to use the following tools\, a jigsaw\, a handplane\, a tennon saw\, a spokeshave\, a battery drill\, a battery screwdriver and the pillar drill. You may already be familiar with some or all of these\, but if you are not\, this is the perfect chance to come and learn safely and with the bonus of taking home the beautiful Trug. \nMade from Pine\, the Trug can be used to carry anything\, vegetables from the garden\, apples from the orchard\, or your knitting around your house. It will be an addition in any home and can be used in lots of ways. \nThis is great opportunity to see the workshop\, and meet the course instructor\, and discover if other courses might appeal to you as well \nCourse Cost €115.00
URL:https://www.bevelwoodworkingschool.com/event/the-trug-22-february-2025-sunday/
LOCATION:Bevel Woodworking School\, Fethard-on-Sea\,  Co. Wexford\, Ireland
CATEGORIES:Nesting Box,Outdoor Furniture,Tools
ATTACH;FMTTYPE=image/jpeg:https://www.bevelwoodworkingschool.com/wwssite/wp-content/uploads/2023/10/trug.jpg
GEO:52.1923021;-6.8402183
X-APPLE-STRUCTURED-LOCATION;VALUE=URI;X-ADDRESS=Bevel Woodworking School Fethard-on-Sea  Co. Wexford Ireland;X-APPLE-RADIUS=500;X-TITLE=Fethard-on-Sea:geo:-6.8402183,52.1923021
END:VEVENT
BEGIN:VEVENT
DTSTART;TZID=Europe/London:20250223T090000
DTEND;TZID=Europe/London:20250223T170000
DTSTAMP:20260422T231118
CREATED:20241106T115920Z
LAST-MODIFIED:20241209T111001Z
UID:10000544-1740301200-1740330000@www.bevelwoodworkingschool.com
SUMMARY:Carving a Woodspirit   23 February 2025  ( Sunday)
DESCRIPTION:This is a wonderful introduction to the Workshop environment. \nCarving the Woodspirit is one-day course. You will discover that it is a very hands-on experience\, but not just your hands\, your full attention will be engaged. You will be using carving chisels and a timber mallet\, and your energy and imagination will be drawn in as you progress. Your own creativity will have space to develop\, with careful guidance and plenty of encouragement from your tutor Tommy. The project is different for everybody who takes part because each finished piece is unique. \nThis is a great day out\, you will enjoy learning a new skill or improve your carving if you have already tried it before. You will enjoy focusing your mind on the task and meeting a few new people and you will be surprised at what you can create. \nCourse Cost €110.00
URL:https://www.bevelwoodworkingschool.com/event/carving-a-woodspirit-23-february-2025-sunday/
LOCATION:Bevel Woodworking School\, Fethard-on-Sea\,  Co. Wexford\, Ireland
CATEGORIES:Outdoor Furniture,Redwood,Tools,Woodcarving
ATTACH;FMTTYPE=image/jpeg:https://www.bevelwoodworkingschool.com/wwssite/wp-content/uploads/2017/03/wood-carving-course.jpg
GEO:52.1923021;-6.8402183
X-APPLE-STRUCTURED-LOCATION;VALUE=URI;X-ADDRESS=Bevel Woodworking School Fethard-on-Sea  Co. Wexford Ireland;X-APPLE-RADIUS=500;X-TITLE=Fethard-on-Sea:geo:-6.8402183,52.1923021
END:VEVENT
END:VCALENDAR