BEGIN:VCALENDAR
VERSION:2.0
PRODID:-//Bevel Woodworking School - ECPv6.15.20//NONSGML v1.0//EN
CALSCALE:GREGORIAN
METHOD:PUBLISH
X-WR-CALNAME:Bevel Woodworking School
X-ORIGINAL-URL:https://www.bevelwoodworkingschool.com
X-WR-CALDESC:Events for Bevel Woodworking School
REFRESH-INTERVAL;VALUE=DURATION:PT1H
X-Robots-Tag:noindex
X-PUBLISHED-TTL:PT1H
BEGIN:VTIMEZONE
TZID:Europe/London
BEGIN:DAYLIGHT
TZOFFSETFROM:+0000
TZOFFSETTO:+0100
TZNAME:BST
DTSTART:20210328T010000
END:DAYLIGHT
BEGIN:STANDARD
TZOFFSETFROM:+0100
TZOFFSETTO:+0000
TZNAME:GMT
DTSTART:20211031T010000
END:STANDARD
BEGIN:DAYLIGHT
TZOFFSETFROM:+0000
TZOFFSETTO:+0100
TZNAME:BST
DTSTART:20220327T010000
END:DAYLIGHT
BEGIN:STANDARD
TZOFFSETFROM:+0100
TZOFFSETTO:+0000
TZNAME:GMT
DTSTART:20221030T010000
END:STANDARD
BEGIN:DAYLIGHT
TZOFFSETFROM:+0000
TZOFFSETTO:+0100
TZNAME:BST
DTSTART:20230326T010000
END:DAYLIGHT
BEGIN:STANDARD
TZOFFSETFROM:+0100
TZOFFSETTO:+0000
TZNAME:GMT
DTSTART:20231029T010000
END:STANDARD
END:VTIMEZONE
BEGIN:VEVENT
DTSTART;TZID=Europe/London:20220702T090000
DTEND;TZID=Europe/London:20220702T170000
DTSTAMP:20260426T044446
CREATED:20220506T124143Z
LAST-MODIFIED:20220629T133320Z
UID:10000470-1656752400-1656781200@www.bevelwoodworkingschool.com
SUMMARY:Carving a Woodspirit   Saturday  02/07/2022
DESCRIPTION:This is a wonderful introduction to the Workshop environment. \nCarving the Woodspirit is one day course. You will discover that it is a very hands-on experience\, but not just your hands\, your full attention will be engaged. You will be using carving chisels and a timber mallet\, and your energy and imagination will be drawn in as you progress. Your own creativity will have space to develop\, with careful guidance and plenty of encouragement from your tutor Tommy. The project is different for everybody who takes part because each finished piece is unique. \nThis is a great day out\, you will enjoy learning a new skill or improve your carving if you have already tried it before. You will enjoy focusing your mind on the task\, meeting a few new people and you will be surprised at what you can create. \nCourse Cost €100.00
URL:https://www.bevelwoodworkingschool.com/event/carving-a-woodspirit-saturday-02-07-2022/
LOCATION:Bevel Woodworking School\, Fethard-on-Sea\,  Co. Wexford\, Ireland
CATEGORIES:Woodcarving,Woodworking
ATTACH;FMTTYPE=image/jpeg:https://www.bevelwoodworkingschool.com/wwssite/wp-content/uploads/2022/05/IMG_4364-scaled-e1651840731391.jpg
GEO:52.1923021;-6.8402183
X-APPLE-STRUCTURED-LOCATION;VALUE=URI;X-ADDRESS=Bevel Woodworking School Fethard-on-Sea  Co. Wexford Ireland;X-APPLE-RADIUS=500;X-TITLE=Fethard-on-Sea:geo:-6.8402183,52.1923021
END:VEVENT
BEGIN:VEVENT
DTSTART;TZID=Europe/London:20220716T090000
DTEND;TZID=Europe/London:20220717T170000
DTSTAMP:20260426T044446
CREATED:20220506T143809Z
LAST-MODIFIED:20220526T165656Z
UID:10000471-1657962000-1658077200@www.bevelwoodworkingschool.com
SUMMARY:Adirondack Chair Course  16-17/07/2022  (Sat/Sun)
DESCRIPTION:Two-Day Adirondack Chair Course.    \nThis is a 2-day course (9.00 am to 5.00 pm each day). During the two days\, you make the beautiful Adirondack chair. Using Scandinavian pine you will be building a chair that will last for many years and will be a favourite for all family members. With step-by-step instructions from a master craftsman\, you will be learning how to use a variety of tools including a handsaw\, hand plane\, jigsaw\, spokeshave\, bevel\, battery screw gun\, wood chisel\, measuring tape\, and square. \nYou’ll be working in a fully equipped workshop\, meeting some new people\, as you work through the class together. You will be surprised at how much you will enjoy the process and taking home your chair will give you a great sense of achievement. \nThe class size is restricted to eight people\, to ensure physical distancing. The workshop is spacious and each person will work on their own bench. \nAs it’s a two-day course\, you have the perfect chance to see some of Hook Peninsula and its spectacular beaches\, historic sites\, and visitor attractions. Take a day or two extra to enjoy the area. \nCourse Cost €280.00  
URL:https://www.bevelwoodworkingschool.com/event/adirondack-chair-course-16-17-07-2022-sat-sun/
LOCATION:Bevel Woodworking School\, Fethard-on-Sea\,  Co. Wexford\, Ireland
CATEGORIES:ADIRONDACK,Outdoor Furniture,Tools,Woodcarving,Woodworking
ATTACH;FMTTYPE=image/jpeg:https://www.bevelwoodworkingschool.com/wwssite/wp-content/uploads/2022/05/IMG_4567-scaled-e1651847832326.jpg
GEO:52.1923021;-6.8402183
X-APPLE-STRUCTURED-LOCATION;VALUE=URI;X-ADDRESS=Bevel Woodworking School Fethard-on-Sea  Co. Wexford Ireland;X-APPLE-RADIUS=500;X-TITLE=Fethard-on-Sea:geo:-6.8402183,52.1923021
END:VEVENT
BEGIN:VEVENT
DTSTART;TZID=Europe/London:20220723T090000
DTEND;TZID=Europe/London:20220723T170000
DTSTAMP:20260426T044446
CREATED:20220506T161110Z
LAST-MODIFIED:20220516T145049Z
UID:10000475-1658566800-1658595600@www.bevelwoodworkingschool.com
SUMMARY:Bird House Course  23/07/2022  (Saturday)
DESCRIPTION:Build a Beautiful Birdhouse in Stunning Redwood     \nThis is a great one-day course for any time of year\, and now is the perfect time as the birds prepare to build and nest.This elegant birdhouse design in Irish Redwood\, will add character in any garden environment and has all the qualities to last well outside in our Irish weather. \nIt is designed with all the correct measurements to suit the birds and in building it you will use new tools that you may not have tried previously. No experience is necessary for this course\, and the day spent in the workshop is relaxing and enjoyable\, and very rewarding. \nWhen you join us to build your Birdhouse\, you will also pick up new woodworking skills. We look forward to welcoming you to this course. \nCourse Cost €125.00
URL:https://www.bevelwoodworkingschool.com/event/bird-house-course-23-07-2022-saturday/
LOCATION:Bevel Woodworking School\, Fethard-on-Sea\,  Co. Wexford\, Ireland
CATEGORIES:Nesting Box,Outdoor Furniture,Woodcarving
ATTACH;FMTTYPE=image/jpeg:https://www.bevelwoodworkingschool.com/wwssite/wp-content/uploads/2022/05/IMG_3765-scaled-e1651853424509.jpg
GEO:52.1923021;-6.8402183
X-APPLE-STRUCTURED-LOCATION;VALUE=URI;X-ADDRESS=Bevel Woodworking School Fethard-on-Sea  Co. Wexford Ireland;X-APPLE-RADIUS=500;X-TITLE=Fethard-on-Sea:geo:-6.8402183,52.1923021
END:VEVENT
END:VCALENDAR