BEGIN:VCALENDAR
VERSION:2.0
PRODID:-//Bevel Woodworking School - ECPv6.15.20//NONSGML v1.0//EN
CALSCALE:GREGORIAN
METHOD:PUBLISH
X-WR-CALNAME:Bevel Woodworking School
X-ORIGINAL-URL:https://www.bevelwoodworkingschool.com
X-WR-CALDESC:Events for Bevel Woodworking School
REFRESH-INTERVAL;VALUE=DURATION:PT1H
X-Robots-Tag:noindex
X-PUBLISHED-TTL:PT1H
BEGIN:VTIMEZONE
TZID:Europe/London
BEGIN:DAYLIGHT
TZOFFSETFROM:+0000
TZOFFSETTO:+0100
TZNAME:BST
DTSTART:20220327T010000
END:DAYLIGHT
BEGIN:STANDARD
TZOFFSETFROM:+0100
TZOFFSETTO:+0000
TZNAME:GMT
DTSTART:20221030T010000
END:STANDARD
BEGIN:DAYLIGHT
TZOFFSETFROM:+0000
TZOFFSETTO:+0100
TZNAME:BST
DTSTART:20230326T010000
END:DAYLIGHT
BEGIN:STANDARD
TZOFFSETFROM:+0100
TZOFFSETTO:+0000
TZNAME:GMT
DTSTART:20231029T010000
END:STANDARD
BEGIN:DAYLIGHT
TZOFFSETFROM:+0000
TZOFFSETTO:+0100
TZNAME:BST
DTSTART:20240331T010000
END:DAYLIGHT
BEGIN:STANDARD
TZOFFSETFROM:+0100
TZOFFSETTO:+0000
TZNAME:GMT
DTSTART:20241027T010000
END:STANDARD
END:VTIMEZONE
BEGIN:VEVENT
DTSTART;TZID=Europe/London:20230304T090000
DTEND;TZID=Europe/London:20230304T170000
DTSTAMP:20260425T180253
CREATED:20221105T151640Z
LAST-MODIFIED:20221130T143156Z
UID:10000487-1677920400-1677949200@www.bevelwoodworkingschool.com
SUMMARY:Bird House Course  04/03/2023  (Saturday)
DESCRIPTION:Build a Beautiful Birdhouse in Stunning Redwood     \nThis is a great one-day course for any time of year. This elegant birdhouse design in Irish Redwood\, will add character in any garden environment and has all the qualities to last well outside in our Irish weather. \nIt is designed with all the correct measurements to suit the birds and in building it you will use new tools that you may not have tried previously. No experience is necessary for this course\, and the day spent in the workshop is relaxing and enjoyable\, and very rewarding. \nWhen you join us to build your Birdhouse\, you will also pick up new woodworking skills. We look forward to welcoming you to this course. \nCourse Cost €125.00
URL:https://www.bevelwoodworkingschool.com/event/bird-house-course-04-03-2023-saturday/
LOCATION:Bevel Woodworking School\, Fethard-on-Sea\,  Co. Wexford\, Ireland
CATEGORIES:Outdoor Furniture,Redwood,Tools,Woodcarving
ATTACH;FMTTYPE=image/jpeg:https://www.bevelwoodworkingschool.com/wwssite/wp-content/uploads/2022/02/IMG_7261-scaled-e1644161101506.jpg
GEO:52.1923021;-6.8402183
X-APPLE-STRUCTURED-LOCATION;VALUE=URI;X-ADDRESS=Bevel Woodworking School Fethard-on-Sea  Co. Wexford Ireland;X-APPLE-RADIUS=500;X-TITLE=Fethard-on-Sea:geo:-6.8402183,52.1923021
END:VEVENT
BEGIN:VEVENT
DTSTART;TZID=Europe/London:20230305T090000
DTEND;TZID=Europe/London:20230305T170000
DTSTAMP:20260425T180253
CREATED:20221105T155505Z
LAST-MODIFIED:20230216T094429Z
UID:10000490-1678006800-1678035600@www.bevelwoodworkingschool.com
SUMMARY:Tool Sharpening and Tuning   05/03/2023 (Sunday)
DESCRIPTION:One Day Tool Tune-Up \nThis course is designed to show you how to sharpen and fine-tune your own woodwork tools. \nIt is relevant for brand-new and used tools. \nMost tools when purchased new are not fit for use and need the grinding angle to be corrected and other adjustments to be made. \nWe will focus on flat and carving woodworking chisels\, also a range of hand planes and the spokeshave. You are welcome to bring along your own Work-working Tools on the day to sharpen and tune. \nThe course will facilitate you using a number of different sharpening methods\, which will include the electric waterstone\, the oilstone\, the diamond stone and the leather strop. You will also learn how to maintain each of the sharpening tools\, so that you can maintain your own tools at home. \nNote:this course is not suitable for gardening tools. \nCourse Cost €90.00
URL:https://www.bevelwoodworkingschool.com/event/tool-sharpening-and-tuning-05-03-2023-sunday/
LOCATION:Bevel Woodworking School\, Fethard-on-Sea\,  Co. Wexford\, Ireland
CATEGORIES:Tools,Woodcarving,Woodworking,Workbench
ATTACH;FMTTYPE=image/jpeg:https://www.bevelwoodworkingschool.com/wwssite/wp-content/uploads/2017/02/tool-cabinet-e1491757916800.jpg
GEO:52.1923021;-6.8402183
X-APPLE-STRUCTURED-LOCATION;VALUE=URI;X-ADDRESS=Bevel Woodworking School Fethard-on-Sea  Co. Wexford Ireland;X-APPLE-RADIUS=500;X-TITLE=Fethard-on-Sea:geo:-6.8402183,52.1923021
END:VEVENT
END:VCALENDAR