BEGIN:VCALENDAR
VERSION:2.0
PRODID:-//Bevel Woodworking School - ECPv6.15.20//NONSGML v1.0//EN
CALSCALE:GREGORIAN
METHOD:PUBLISH
X-WR-CALNAME:Bevel Woodworking School
X-ORIGINAL-URL:https://www.bevelwoodworkingschool.com
X-WR-CALDESC:Events for Bevel Woodworking School
REFRESH-INTERVAL;VALUE=DURATION:PT1H
X-Robots-Tag:noindex
X-PUBLISHED-TTL:PT1H
BEGIN:VTIMEZONE
TZID:Europe/London
BEGIN:DAYLIGHT
TZOFFSETFROM:+0000
TZOFFSETTO:+0100
TZNAME:BST
DTSTART:20240331T010000
END:DAYLIGHT
BEGIN:STANDARD
TZOFFSETFROM:+0100
TZOFFSETTO:+0000
TZNAME:GMT
DTSTART:20241027T010000
END:STANDARD
BEGIN:DAYLIGHT
TZOFFSETFROM:+0000
TZOFFSETTO:+0100
TZNAME:BST
DTSTART:20250330T010000
END:DAYLIGHT
BEGIN:STANDARD
TZOFFSETFROM:+0100
TZOFFSETTO:+0000
TZNAME:GMT
DTSTART:20251026T010000
END:STANDARD
BEGIN:DAYLIGHT
TZOFFSETFROM:+0000
TZOFFSETTO:+0100
TZNAME:BST
DTSTART:20260329T010000
END:DAYLIGHT
BEGIN:STANDARD
TZOFFSETFROM:+0100
TZOFFSETTO:+0000
TZNAME:GMT
DTSTART:20261025T010000
END:STANDARD
END:VTIMEZONE
BEGIN:VEVENT
DTSTART;TZID=Europe/London:20250201T090000
DTEND;TZID=Europe/London:20250201T170000
DTSTAMP:20260424T103718
CREATED:20241106T132921Z
LAST-MODIFIED:20241106T132921Z
UID:10000549-1738400400-1738429200@www.bevelwoodworkingschool.com
SUMMARY:Three Legged Stool    1 February 2025  (Saturday)
DESCRIPTION:This new one-day course is a great introduction to the woodworking workshop. \nThe stool is a straightforward project and is suitable for beginners or anybody who wishes to have a creative day in a workshop environment. \nFacilitated by craftsman  Tommy Kelly\, you will be guided through the process using a range of woodworking tools\, including a jigsaw\, a spokeshave\, a compass\, a protractor\, a Tennon cutter\, a tennonsaw and woodchsiels. \nYou will complete a beautiful stool approximately 10inches in diameter and 10 inches high\, and take it home to use as you wish. \n  \nCourse Cost €110.00
URL:https://www.bevelwoodworkingschool.com/event/three-legged-stool-1-february-2025-saturday/
LOCATION:Bevel Woodworking School\, Fethard-on-Sea\,  Co. Wexford\, Ireland
CATEGORIES:Lounger,Redwood,Tools,Woodcarving
ATTACH;FMTTYPE=image/jpeg:https://www.bevelwoodworkingschool.com/wwssite/wp-content/uploads/2024/11/STOOL2-scaled-e1730899650709.jpg
GEO:52.1923021;-6.8402183
X-APPLE-STRUCTURED-LOCATION;VALUE=URI;X-ADDRESS=Bevel Woodworking School Fethard-on-Sea  Co. Wexford Ireland;X-APPLE-RADIUS=500;X-TITLE=Fethard-on-Sea:geo:-6.8402183,52.1923021
END:VEVENT
BEGIN:VEVENT
DTSTART;TZID=Europe/London:20250202T090000
DTEND;TZID=Europe/London:20250202T170000
DTSTAMP:20260424T103718
CREATED:20241106T125341Z
LAST-MODIFIED:20241116T115503Z
UID:10000546-1738486800-1738515600@www.bevelwoodworkingschool.com
SUMMARY:Celtic Carving Course    2  February  2025  (Sunday)
DESCRIPTION:One Day Wood Carving  \nCome and share a wonderful day with a group of novice carvers. This one-day course is perfect for complete beginners. Wood carving is a skill that requires practice and lots of people choose to repeat the day as there are many different carving options. \nThe workshop is airy and ventilated and the atmosphere is relaxed. \nUsing sharp wood chisels and a timber mallet from your own tool cabinet\, you will be working at your own spacious workbench and will learn various techniques while creating a two-dimensional piece in lime wood. \nThe process is enjoyable and the results are always surprising! \nConsider this as part of a weekend or day out to the historic Hook Peninsula. \n  \nCourse Cost €100.00
URL:https://www.bevelwoodworkingschool.com/event/celtic-carving-course-2-february-2025-sunday/
LOCATION:Bevel Woodworking School\, Fethard-on-Sea\,  Co. Wexford\, Ireland
CATEGORIES:Tools,Woodcarving
ATTACH;FMTTYPE=image/jpeg:https://www.bevelwoodworkingschool.com/wwssite/wp-content/uploads/2024/11/celtic1-scaled-e1730897591333.jpg
GEO:52.1923021;-6.8402183
X-APPLE-STRUCTURED-LOCATION;VALUE=URI;X-ADDRESS=Bevel Woodworking School Fethard-on-Sea  Co. Wexford Ireland;X-APPLE-RADIUS=500;X-TITLE=Fethard-on-Sea:geo:-6.8402183,52.1923021
END:VEVENT
BEGIN:VEVENT
DTSTART;TZID=Europe/London:20250223T090000
DTEND;TZID=Europe/London:20250223T170000
DTSTAMP:20260424T103718
CREATED:20241106T115920Z
LAST-MODIFIED:20241209T111001Z
UID:10000544-1740301200-1740330000@www.bevelwoodworkingschool.com
SUMMARY:Carving a Woodspirit   23 February 2025  ( Sunday)
DESCRIPTION:This is a wonderful introduction to the Workshop environment. \nCarving the Woodspirit is one-day course. You will discover that it is a very hands-on experience\, but not just your hands\, your full attention will be engaged. You will be using carving chisels and a timber mallet\, and your energy and imagination will be drawn in as you progress. Your own creativity will have space to develop\, with careful guidance and plenty of encouragement from your tutor Tommy. The project is different for everybody who takes part because each finished piece is unique. \nThis is a great day out\, you will enjoy learning a new skill or improve your carving if you have already tried it before. You will enjoy focusing your mind on the task and meeting a few new people and you will be surprised at what you can create. \nCourse Cost €110.00
URL:https://www.bevelwoodworkingschool.com/event/carving-a-woodspirit-23-february-2025-sunday/
LOCATION:Bevel Woodworking School\, Fethard-on-Sea\,  Co. Wexford\, Ireland
CATEGORIES:Outdoor Furniture,Redwood,Tools,Woodcarving
ATTACH;FMTTYPE=image/jpeg:https://www.bevelwoodworkingschool.com/wwssite/wp-content/uploads/2017/03/wood-carving-course.jpg
GEO:52.1923021;-6.8402183
X-APPLE-STRUCTURED-LOCATION;VALUE=URI;X-ADDRESS=Bevel Woodworking School Fethard-on-Sea  Co. Wexford Ireland;X-APPLE-RADIUS=500;X-TITLE=Fethard-on-Sea:geo:-6.8402183,52.1923021
END:VEVENT
END:VCALENDAR