BEGIN:VCALENDAR
VERSION:2.0
PRODID:-//Bevel Woodworking School - ECPv6.15.20//NONSGML v1.0//EN
CALSCALE:GREGORIAN
METHOD:PUBLISH
X-ORIGINAL-URL:https://www.bevelwoodworkingschool.com
X-WR-CALDESC:Events for Bevel Woodworking School
REFRESH-INTERVAL;VALUE=DURATION:PT1H
X-Robots-Tag:noindex
X-PUBLISHED-TTL:PT1H
BEGIN:VTIMEZONE
TZID:Europe/London
BEGIN:DAYLIGHT
TZOFFSETFROM:+0000
TZOFFSETTO:+0100
TZNAME:BST
DTSTART:20190331T010000
END:DAYLIGHT
BEGIN:STANDARD
TZOFFSETFROM:+0100
TZOFFSETTO:+0000
TZNAME:GMT
DTSTART:20191027T010000
END:STANDARD
BEGIN:DAYLIGHT
TZOFFSETFROM:+0000
TZOFFSETTO:+0100
TZNAME:BST
DTSTART:20200329T010000
END:DAYLIGHT
BEGIN:STANDARD
TZOFFSETFROM:+0100
TZOFFSETTO:+0000
TZNAME:GMT
DTSTART:20201025T010000
END:STANDARD
BEGIN:DAYLIGHT
TZOFFSETFROM:+0000
TZOFFSETTO:+0100
TZNAME:BST
DTSTART:20210328T010000
END:DAYLIGHT
BEGIN:STANDARD
TZOFFSETFROM:+0100
TZOFFSETTO:+0000
TZNAME:GMT
DTSTART:20211031T010000
END:STANDARD
END:VTIMEZONE
BEGIN:VEVENT
DTSTART;TZID=Europe/London:20200328T090000
DTEND;TZID=Europe/London:20200328T170000
DTSTAMP:20260421T205140
CREATED:20191217T101033Z
LAST-MODIFIED:20200216T222303Z
UID:10000415-1585386000-1585414800@www.bevelwoodworkingschool.com
SUMMARY:Carving a Woodspirit  28/03/2020
DESCRIPTION:This is a wonderful introduction to the Workshop environment. \nCarving the Woodspirit is one day course. You will discover that it is a very hands-on experience\, but not just your hands\, your full attention will be engaged. You will be using carving chisels and a timber mallet\, and your energy and imagination will be drawn in as you progress. Your own creativity will have space to develop\, with careful guidance and plenty of encouragement from your tutor Tommy. The project is different for everybody who takes part because each finished piece is unique. \nThis is a great day out\, you will enjoy learning a new skill or improve your carving if you have already tried it before\, you will enjoy focusing your mind on the task and you will be surprised at what you can create. \n 
URL:https://www.bevelwoodworkingschool.com/event/carving-a-woodspirit-28-03-2020/
LOCATION:Bevel Woodworking School\, Fethard-on-Sea\,  Co. Wexford\, Ireland
CATEGORIES:Outdoor Furniture,Woodcarving
ATTACH;FMTTYPE=image/jpeg:https://www.bevelwoodworkingschool.com/wwssite/wp-content/uploads/2017/11/IMG_0298-e1511095645218.jpg
GEO:52.1923021;-6.8402183
X-APPLE-STRUCTURED-LOCATION;VALUE=URI;X-ADDRESS=Bevel Woodworking School Fethard-on-Sea  Co. Wexford Ireland;X-APPLE-RADIUS=500;X-TITLE=Fethard-on-Sea:geo:-6.8402183,52.1923021
END:VEVENT
BEGIN:VEVENT
DTSTART;TZID=Europe/London:20200321T090000
DTEND;TZID=Europe/London:20200321T170000
DTSTAMP:20260421T205140
CREATED:20191217T100456Z
LAST-MODIFIED:20191217T101125Z
UID:10000414-1584781200-1584810000@www.bevelwoodworkingschool.com
SUMMARY:Wood Carving 21/03/2020
DESCRIPTION:One Day Wood Carving  \nCome and share a wonderful day with a group of novice carvers. This one day course is perfect for complete beginners. Wood carving is a skill which requires practice and lots of people choose to repeat the day as there are many different carving options. \nThe workshop is cosy\, the atmosphere is relaxed\, and the kettle is always boiled. \nUsing sharp wood chisels and a timber mallet from your own tool cabinet\, you will be working at your own spacious workbench and will learn various techniques while creating a two-dimensional piece in lime wood. \nThe process is enjoyable and the results are always surprising! \nConsider this as part of a weekend or day out to the historic Hook Peninsula. \n 
URL:https://www.bevelwoodworkingschool.com/event/wood-carving-21-03-2020/
LOCATION:Bevel Woodworking School\, Fethard-on-Sea\,  Co. Wexford\, Ireland
CATEGORIES:Woodcarving,Workbench
ATTACH;FMTTYPE=image/jpeg:https://www.bevelwoodworkingschool.com/wwssite/wp-content/uploads/2019/10/IMG_2099-e1572205804127.jpg
GEO:52.1923021;-6.8402183
X-APPLE-STRUCTURED-LOCATION;VALUE=URI;X-ADDRESS=Bevel Woodworking School Fethard-on-Sea  Co. Wexford Ireland;X-APPLE-RADIUS=500;X-TITLE=Fethard-on-Sea:geo:-6.8402183,52.1923021
END:VEVENT
BEGIN:VEVENT
DTSTART;TZID=Europe/London:20200307T090000
DTEND;TZID=Europe/London:20200307T170000
DTSTAMP:20260421T205140
CREATED:20191027T193854Z
LAST-MODIFIED:20200110T200123Z
UID:10000411-1583571600-1583600400@www.bevelwoodworkingschool.com
SUMMARY:Marquetry Course 07/03/2020
DESCRIPTION:Marquetry Course \nThis is a new one day course which we have run a few times with some local groups\, and we are happy to offer it now as part of our schedule. Marquetry is the ancient art of combining different timber veneers together to create a design or a picture. We have a number of templates we can work with to create your first marquetry picture and the exciting part is\, once you can master the technique\, the possibilities are endless. \nIt doesn’t matter if you consider yourself artistic or not\, this is a relaxing and rewarding type of woodwork and we invite you to come to try it for yourself \nWe will be using a range of veneers\, including walnut\, cherry\, beech\, birch and oak and you can choose from a range of designs for your first Marquetry project.
URL:https://www.bevelwoodworkingschool.com/event/marquetry-course-07-03-2020/
LOCATION:Bevel Woodworking School\, Fethard-on-Sea\,  Co. Wexford\, Ireland
CATEGORIES:Woodcarving,Woodworking
ATTACH;FMTTYPE=image/jpeg:https://www.bevelwoodworkingschool.com/wwssite/wp-content/uploads/2019/05/IMG_1464-e1558515095730.jpg
GEO:52.1923021;-6.8402183
X-APPLE-STRUCTURED-LOCATION;VALUE=URI;X-ADDRESS=Bevel Woodworking School Fethard-on-Sea  Co. Wexford Ireland;X-APPLE-RADIUS=500;X-TITLE=Fethard-on-Sea:geo:-6.8402183,52.1923021
END:VEVENT
BEGIN:VEVENT
DTSTART;TZID=Europe/London:20200208T090000
DTEND;TZID=Europe/London:20200208T170000
DTSTAMP:20260421T205140
CREATED:20191027T192920Z
LAST-MODIFIED:20191127T201211Z
UID:10000410-1581152400-1581181200@www.bevelwoodworkingschool.com
SUMMARY:Carving a Woodspirit  08/02/2020
DESCRIPTION:This is a wonderful introduction to the Workshop environment. \nCarving the Woodspirit is one day course. You will discover that it is a very hands-on experience\, but not just your hands\, your full attention will be engaged. You will be using carving chisels and a timber mallet\, and your energy and imagination will be drawn in as you progress. Your own creativity will have space to develop\, with careful guidance and plenty of encouragement from your tutor Tommy. The project is different for everybody who takes part because each finished piece is unique. \nThis is a great day out\, you will enjoy learning a new skill or improve your carving if you have already tried it before\, you will enjoy focusing your mind on the task and you will be surprised at what you can create. \n 
URL:https://www.bevelwoodworkingschool.com/event/carving-a-woodspirit-08-02-2020/
LOCATION:Bevel Woodworking School\, Fethard-on-Sea\,  Co. Wexford\, Ireland
CATEGORIES:Woodcarving,Woodworking
ATTACH;FMTTYPE=image/jpeg:https://www.bevelwoodworkingschool.com/wwssite/wp-content/uploads/2019/10/IMG_1993-e1572204510176.jpg
GEO:52.1923021;-6.8402183
X-APPLE-STRUCTURED-LOCATION;VALUE=URI;X-ADDRESS=Bevel Woodworking School Fethard-on-Sea  Co. Wexford Ireland;X-APPLE-RADIUS=500;X-TITLE=Fethard-on-Sea:geo:-6.8402183,52.1923021
END:VEVENT
BEGIN:VEVENT
DTSTART;TZID=Europe/London:20200118T090000
DTEND;TZID=Europe/London:20200118T170000
DTSTAMP:20260421T205140
CREATED:20191027T195123Z
LAST-MODIFIED:20191127T200413Z
UID:10000412-1579338000-1579366800@www.bevelwoodworkingschool.com
SUMMARY:Wood Carving 18/01/2020
DESCRIPTION:One Day Wood Carving  \nCome and share a wonderful day with a group of novice carvers. This one day course is perfect for complete beginners. Wood carving is a skill which requires practice and lots of people choose to repeat the day as there are many different carving options. \nThe workshop is cosy\, the atmosphere is relaxed\, and the kettle is always boiled. \nUsing sharp wood chisels and a timber mallet from your own tool cabinet\, you will be working at your own spacious workbench and will learn various techniques while creating a two-dimensional piece in lime wood. \nThe process is enjoyable and the results are always surprising! \nConsider this as part of a weekend or day out to the historic Hook Peninsula. \n 
URL:https://www.bevelwoodworkingschool.com/event/wood-carving-18-01-2020/
LOCATION:Bevel Woodworking School\, Fethard-on-Sea\,  Co. Wexford\, Ireland
CATEGORIES:Outdoor Furniture,Woodcarving,Woodworking
ATTACH;FMTTYPE=image/jpeg:https://www.bevelwoodworkingschool.com/wwssite/wp-content/uploads/2019/10/IMG_2099-e1572205804127.jpg
GEO:52.1923021;-6.8402183
X-APPLE-STRUCTURED-LOCATION;VALUE=URI;X-ADDRESS=Bevel Woodworking School Fethard-on-Sea  Co. Wexford Ireland;X-APPLE-RADIUS=500;X-TITLE=Fethard-on-Sea:geo:-6.8402183,52.1923021
END:VEVENT
END:VCALENDAR