BEGIN:VCALENDAR
VERSION:2.0
PRODID:-//Bevel Woodworking School - ECPv6.15.20//NONSGML v1.0//EN
CALSCALE:GREGORIAN
METHOD:PUBLISH
X-WR-CALNAME:Bevel Woodworking School
X-ORIGINAL-URL:https://www.bevelwoodworkingschool.com
X-WR-CALDESC:Events for Bevel Woodworking School
REFRESH-INTERVAL;VALUE=DURATION:PT1H
X-Robots-Tag:noindex
X-PUBLISHED-TTL:PT1H
BEGIN:VTIMEZONE
TZID:Europe/London
BEGIN:DAYLIGHT
TZOFFSETFROM:+0000
TZOFFSETTO:+0100
TZNAME:BST
DTSTART:20230326T010000
END:DAYLIGHT
BEGIN:STANDARD
TZOFFSETFROM:+0100
TZOFFSETTO:+0000
TZNAME:GMT
DTSTART:20231029T010000
END:STANDARD
BEGIN:DAYLIGHT
TZOFFSETFROM:+0000
TZOFFSETTO:+0100
TZNAME:BST
DTSTART:20240331T010000
END:DAYLIGHT
BEGIN:STANDARD
TZOFFSETFROM:+0100
TZOFFSETTO:+0000
TZNAME:GMT
DTSTART:20241027T010000
END:STANDARD
BEGIN:DAYLIGHT
TZOFFSETFROM:+0000
TZOFFSETTO:+0100
TZNAME:BST
DTSTART:20250330T010000
END:DAYLIGHT
BEGIN:STANDARD
TZOFFSETFROM:+0100
TZOFFSETTO:+0000
TZNAME:GMT
DTSTART:20251026T010000
END:STANDARD
END:VTIMEZONE
BEGIN:VEVENT
DTSTART;TZID=Europe/London:20240420T090000
DTEND;TZID=Europe/London:20240420T170000
DTSTAMP:20260425T041310
CREATED:20240127T122524Z
LAST-MODIFIED:20240127T122524Z
UID:10000526-1713603600-1713632400@www.bevelwoodworkingschool.com
SUMMARY:***New***   Spoon Carving Course   20 April 24  (Saturday)
DESCRIPTION:Carving a Wooden Spoon \nThis is on of the very special days at Bevel Woodworking School\, and its been a while since we ran this course\, so now is your opprotunity to book your place \nThe humble wooden spoon\, treat yourself to this unique day out. \nDemonstrated step-by-step sample spoons are there to guide you through each stage. the timber you will use is sycamore\, cherry\, or walnut\, and the hand tools you will be using are carving chisels\, spokeshave\, coping saw and panel saw. You will take home a spoon you have crafted yourself. That spoon will take its place in your kitchen and be a reminder of this special day. \nIf you have already carved a spoon with us\, you now have an opportunity to carve a more complex spoon\, as the day is designed to suit different skill levels. \n“The expert in anything was once a beginner” \nCourse Cost €100.00
URL:https://www.bevelwoodworkingschool.com/event/new-spoon-carving-course-20-april-24-saturday/
CATEGORIES:Tools,Woodcarving,Workbench
ATTACH;FMTTYPE=image/jpeg:https://www.bevelwoodworkingschool.com/wwssite/wp-content/uploads/2017/03/spoon-carving-course-1.jpg
END:VEVENT
END:VCALENDAR