BEGIN:VCALENDAR
VERSION:2.0
PRODID:-//Bevel Woodworking School - ECPv6.15.20//NONSGML v1.0//EN
CALSCALE:GREGORIAN
METHOD:PUBLISH
X-ORIGINAL-URL:https://www.bevelwoodworkingschool.com
X-WR-CALDESC:Events for Bevel Woodworking School
REFRESH-INTERVAL;VALUE=DURATION:PT1H
X-Robots-Tag:noindex
X-PUBLISHED-TTL:PT1H
BEGIN:VTIMEZONE
TZID:Europe/London
BEGIN:DAYLIGHT
TZOFFSETFROM:+0000
TZOFFSETTO:+0100
TZNAME:BST
DTSTART:20200329T010000
END:DAYLIGHT
BEGIN:STANDARD
TZOFFSETFROM:+0100
TZOFFSETTO:+0000
TZNAME:GMT
DTSTART:20201025T010000
END:STANDARD
BEGIN:DAYLIGHT
TZOFFSETFROM:+0000
TZOFFSETTO:+0100
TZNAME:BST
DTSTART:20210328T010000
END:DAYLIGHT
BEGIN:STANDARD
TZOFFSETFROM:+0100
TZOFFSETTO:+0000
TZNAME:GMT
DTSTART:20211031T010000
END:STANDARD
BEGIN:DAYLIGHT
TZOFFSETFROM:+0000
TZOFFSETTO:+0100
TZNAME:BST
DTSTART:20220327T010000
END:DAYLIGHT
BEGIN:STANDARD
TZOFFSETFROM:+0100
TZOFFSETTO:+0000
TZNAME:GMT
DTSTART:20221030T010000
END:STANDARD
END:VTIMEZONE
BEGIN:VEVENT
DTSTART;TZID=Europe/London:20211106T090000
DTEND;TZID=Europe/London:20211106T170000
DTSTAMP:20260425T021206
CREATED:20211008T140350Z
LAST-MODIFIED:20211104T101415Z
UID:10000447-1636189200-1636218000@www.bevelwoodworkingschool.com
SUMMARY:Carving a Woodspirit  06/11/2021
DESCRIPTION:This is a wonderful introduction to the Workshop environment. \nCarving the Woodspirit is one day course. You will discover that it is a very hands-on experience\, but not just your hands\, your full attention will be engaged. You will be using carving chisels and a timber mallet\, and your energy and imagination will be drawn in as you progress. Your own creativity will have space to develop\, with careful guidance and plenty of encouragement from your tutor Tommy. The project is different for everybody who takes part because each finished piece is unique. \nThis is a great day out\, you will enjoy learning a new skill or improve your carving if you have already tried it before\, you will enjoy focusing your mind on the task and you will be surprised at what you can create. \nCourse Cost €100.00
URL:https://www.bevelwoodworkingschool.com/event/carving-a-woodspirit-06-11-2021/
LOCATION:Bevel Woodworking School\, Fethard-on-Sea\,  Co. Wexford\, Ireland
CATEGORIES:Woodcarving,Woodworking
ATTACH;FMTTYPE=image/jpeg:https://www.bevelwoodworkingschool.com/wwssite/wp-content/uploads/2021/09/IMG_3591-scaled-e1633701742521.jpg
GEO:52.1923021;-6.8402183
X-APPLE-STRUCTURED-LOCATION;VALUE=URI;X-ADDRESS=Bevel Woodworking School Fethard-on-Sea  Co. Wexford Ireland;X-APPLE-RADIUS=500;X-TITLE=Fethard-on-Sea:geo:-6.8402183,52.1923021
END:VEVENT
BEGIN:VEVENT
DTSTART;TZID=Europe/London:20211113T090000
DTEND;TZID=Europe/London:20211114T170000
DTSTAMP:20260425T021206
CREATED:20210828T172947Z
LAST-MODIFIED:20210829T085426Z
UID:10000441-1636794000-1636909200@www.bevelwoodworkingschool.com
SUMMARY:Workbench Course 13-14/11/2021
DESCRIPTION:Two Day Workbench Course         \nWould you like to have your own workbench\, to enable you to work in your own work area\, at your own pace and undisturbed? If your answer is yes\, then maybe this is the right opportunity for you to get the most important piece of equipment in place. \nThis is a two-day course in which you will construct your own workbench from 90mm x 90mm timber with 225mm x 60mm planks in the top. Some variables in size will be allowed. Some experience is necessary for this course. Material cost is all included with the exception of the vice. The cost of the vice is not included\, but you can purchase your own and fit it to the bench on the course. \nIf you need some advice on what vice to purchase please ask\, and we will guide you. You will complete a piece that will enable you to undertake your own woodwork projects in your own workspace. \n  \nCourse Cost €440.00
URL:https://www.bevelwoodworkingschool.com/event/workbench-course-13-14-11-2021-2/
LOCATION:Bevel Woodworking School\, Fethard-on-Sea\,  Co. Wexford\, Ireland
CATEGORIES:Outdoor Furniture,Woodcarving,Woodworking,Workbench
ATTACH;FMTTYPE=image/jpeg:https://www.bevelwoodworkingschool.com/wwssite/wp-content/uploads/2017/03/workbench-course.jpg
GEO:52.1923021;-6.8402183
X-APPLE-STRUCTURED-LOCATION;VALUE=URI;X-ADDRESS=Bevel Woodworking School Fethard-on-Sea  Co. Wexford Ireland;X-APPLE-RADIUS=500;X-TITLE=Fethard-on-Sea:geo:-6.8402183,52.1923021
END:VEVENT
BEGIN:VEVENT
DTSTART;TZID=Europe/London:20211120T090000
DTEND;TZID=Europe/London:20211120T170000
DTSTAMP:20260425T021206
CREATED:20211008T140837Z
LAST-MODIFIED:20211015T102756Z
UID:10000448-1637398800-1637427600@www.bevelwoodworkingschool.com
SUMMARY:Bird House Course  20/11/2021
DESCRIPTION:Build a Beautiful Birdhouse in Stunning Redwood     \nThis is a perfect one-day course for any time of year. This elegant birdhouse design in Irish Redwood\, will add character in any garden environment and has all the qualities to last well outside in our Irish weather. \nIt is designed with all the correct measurements to suit the birds and in building it you will use new tools that you may not have tried previously. No experience is necessary for this course\, and the day spent in the workshop is relaxing and enjoyable\, and very rewarding. \nWhen you join us to build your Birdhouse\, you will also pick up new woodworking skills. We look forward to welcoming you to this course. \nCourse Cost €125.00
URL:https://www.bevelwoodworkingschool.com/event/bird-house-course-20-11-2021/
LOCATION:Bevel Woodworking School\, Fethard-on-Sea\,  Co. Wexford\, Ireland
CATEGORIES:Nesting Box,Redwood,Woodworking
ATTACH;FMTTYPE=image/jpeg:https://www.bevelwoodworkingschool.com/wwssite/wp-content/uploads/2019/10/Barbara-2-e1572201152433.jpg
GEO:52.1923021;-6.8402183
X-APPLE-STRUCTURED-LOCATION;VALUE=URI;X-ADDRESS=Bevel Woodworking School Fethard-on-Sea  Co. Wexford Ireland;X-APPLE-RADIUS=500;X-TITLE=Fethard-on-Sea:geo:-6.8402183,52.1923021
END:VEVENT
BEGIN:VEVENT
DTSTART;TZID=Europe/London:20211126T090000
DTEND;TZID=Europe/London:20211127T170000
DTSTAMP:20260425T021206
CREATED:20211008T141503Z
LAST-MODIFIED:20211124T201318Z
UID:10000449-1637917200-1638032400@www.bevelwoodworkingschool.com
SUMMARY:Adirondack Chair Course  26-27/11/2021  (Fri/Sat)
DESCRIPTION:Two-Day Adirondack Chair Course.    \nThis is a 2-day course (9.00 am to 5.00 pm each day). During the two days\, you make the beautiful Adirondack chair. Using Scandinavian pine you will be building a chair that will last for many years and will be a favourite for all family members. With step-by-step instructions from a master craftsman\, you will be learning how to use a variety of tools including a handsaw\, hand plane\, jigsaw\, spokeshave\, bevel\, battery screw gun\, wood chisel\, measuring tape\, and square. \nYou’ll be working in a fully equipped workshop\, meeting some new people\, as you work through the class together. You will be surprised at how much you will enjoy the process and taking home your chair will give you a great sense of achievement. \nThe class size is restricted to eight people\, to ensure physical distancing. The workshop is spacious and each person will work on their own bench. \nAs it’s a two-day course\, you have the perfect chance to see some of Hook Peninsula and its spectacular beaches\, historic sites\, and visitor attractions. Take a day or two extra to enjoy the area. \nCourse Cost €260.00
URL:https://www.bevelwoodworkingschool.com/event/adirondack-chair-course-26-27-11-2021-fri-sat/
LOCATION:Bevel Woodworking School\, Fethard-on-Sea\,  Co. Wexford\, Ireland
CATEGORIES:Outdoor Furniture,Redwood,Woodworking
ATTACH;FMTTYPE=image/jpeg:https://www.bevelwoodworkingschool.com/wwssite/wp-content/uploads/2021/08/IMG_3584-scaled-e1631202362705.jpg
GEO:52.1923021;-6.8402183
X-APPLE-STRUCTURED-LOCATION;VALUE=URI;X-ADDRESS=Bevel Woodworking School Fethard-on-Sea  Co. Wexford Ireland;X-APPLE-RADIUS=500;X-TITLE=Fethard-on-Sea:geo:-6.8402183,52.1923021
END:VEVENT
END:VCALENDAR