BEGIN:VCALENDAR
VERSION:2.0
PRODID:-//Bevel Woodworking School - ECPv6.15.20//NONSGML v1.0//EN
CALSCALE:GREGORIAN
METHOD:PUBLISH
X-WR-CALNAME:Bevel Woodworking School
X-ORIGINAL-URL:https://www.bevelwoodworkingschool.com
X-WR-CALDESC:Events for Bevel Woodworking School
REFRESH-INTERVAL;VALUE=DURATION:PT1H
X-Robots-Tag:noindex
X-PUBLISHED-TTL:PT1H
BEGIN:VTIMEZONE
TZID:Europe/London
BEGIN:DAYLIGHT
TZOFFSETFROM:+0000
TZOFFSETTO:+0100
TZNAME:BST
DTSTART:20210328T010000
END:DAYLIGHT
BEGIN:STANDARD
TZOFFSETFROM:+0100
TZOFFSETTO:+0000
TZNAME:GMT
DTSTART:20211031T010000
END:STANDARD
BEGIN:DAYLIGHT
TZOFFSETFROM:+0000
TZOFFSETTO:+0100
TZNAME:BST
DTSTART:20220327T010000
END:DAYLIGHT
BEGIN:STANDARD
TZOFFSETFROM:+0100
TZOFFSETTO:+0000
TZNAME:GMT
DTSTART:20221030T010000
END:STANDARD
BEGIN:DAYLIGHT
TZOFFSETFROM:+0000
TZOFFSETTO:+0100
TZNAME:BST
DTSTART:20230326T010000
END:DAYLIGHT
BEGIN:STANDARD
TZOFFSETFROM:+0100
TZOFFSETTO:+0000
TZNAME:GMT
DTSTART:20231029T010000
END:STANDARD
END:VTIMEZONE
BEGIN:VEVENT
DTSTART;TZID=Europe/London:20220305T090000
DTEND;TZID=Europe/London:20220305T170000
DTSTAMP:20260424T204029
CREATED:20211202T181750Z
LAST-MODIFIED:20211213T111939Z
UID:10000462-1646470800-1646499600@www.bevelwoodworkingschool.com
SUMMARY:Tool Sharpening and Tuning   05/03/2022
DESCRIPTION:One Day Tool Tune-Up \nThis course is designed to show you how to sharpen and fine-tune your own woodwork tools. \nIt is relevant for brand new and used tools. \nMost tools when purchased new are not fit for use and need the grinding angle to be corrected and other adjustments to be made. \nWe will focus on flat and carving woodworking chisels\, also a range of hand planes and the spokeshave. You are welcome to bring along your own Work-working Tools on the day to sharpen and tune. \nThe course will facilitate you using a number of different sharpening methods\, which will include the electric waterstone\, the oilstone\, the diamond stone and the leather strop. You will also learn how to maintain each of the sharpening tools\, so that you can maintain your own tools at home. \nNote:this course is not suitable for gardening tools. \nCourse Cost €90.00
URL:https://www.bevelwoodworkingschool.com/event/tool-sharpening-and-tuning-05-03-2022/
LOCATION:Bevel Woodworking School\, Fethard-on-Sea\,  Co. Wexford\, Ireland
CATEGORIES:Tools,Woodcarving,Woodworking
ATTACH;FMTTYPE=image/jpeg:https://www.bevelwoodworkingschool.com/wwssite/wp-content/uploads/2017/02/tool-cabinet-e1491757916800.jpg
GEO:52.1923021;-6.8402183
X-APPLE-STRUCTURED-LOCATION;VALUE=URI;X-ADDRESS=Bevel Woodworking School Fethard-on-Sea  Co. Wexford Ireland;X-APPLE-RADIUS=500;X-TITLE=Fethard-on-Sea:geo:-6.8402183,52.1923021
END:VEVENT
BEGIN:VEVENT
DTSTART;TZID=Europe/London:20220312T090000
DTEND;TZID=Europe/London:20220313T170000
DTSTAMP:20260424T204029
CREATED:20220206T151340Z
LAST-MODIFIED:20220209T103341Z
UID:10000463-1647075600-1647190800@www.bevelwoodworkingschool.com
SUMMARY:Adirondack Chair Course  12-13/03/2022  (Sat/Sun)
DESCRIPTION:Two-Day Adirondack Chair Course.    \nThis is a 2-day course (9.00 am to 5.00 pm each day). During the two days\, you make the beautiful Adirondack chair. Using Scandinavian pine you will be building a chair that will last for many years and will be a favourite for all family members. With step-by-step instructions from a master craftsman\, you will be learning how to use a variety of tools including a handsaw\, hand plane\, jigsaw\, spokeshave\, bevel\, battery screw gun\, wood chisel\, measuring tape\, and square. \nYou’ll be working in a fully equipped workshop\, meeting some new people\, as you work through the class together. You will be surprised at how much you will enjoy the process and taking home your chair will give you a great sense of achievement. \nThe class size is restricted to eight people\, to ensure physical distancing. The workshop is spacious and each person will work on their own bench. \nAs it’s a two-day course\, you have the perfect chance to see some of Hook Peninsula and its spectacular beaches\, historic sites\, and visitor attractions. Take a day or two extra to enjoy the area. \nCourse Cost €280.00  
URL:https://www.bevelwoodworkingschool.com/event/adirondack-chair-course-12-13-03-2022-sat-sun/
LOCATION:Bevel Woodworking School\, Fethard-on-Sea\,  Co. Wexford\, Ireland
CATEGORIES:Outdoor Furniture,Tools,Woodcarving,Woodworking
ATTACH;FMTTYPE=image/jpeg:https://www.bevelwoodworkingschool.com/wwssite/wp-content/uploads/2018/07/IMG_0755-e1544540828616.jpg
GEO:52.1923021;-6.8402183
X-APPLE-STRUCTURED-LOCATION;VALUE=URI;X-ADDRESS=Bevel Woodworking School Fethard-on-Sea  Co. Wexford Ireland;X-APPLE-RADIUS=500;X-TITLE=Fethard-on-Sea:geo:-6.8402183,52.1923021
END:VEVENT
BEGIN:VEVENT
DTSTART;TZID=Europe/London:20220319T090000
DTEND;TZID=Europe/London:20220319T170000
DTSTAMP:20260424T204029
CREATED:20220206T152620Z
LAST-MODIFIED:20220314T152743Z
UID:10000464-1647680400-1647709200@www.bevelwoodworkingschool.com
SUMMARY:Bird House Course  19/03/2022  (Saturday)
DESCRIPTION:Build a Beautiful Birdhouse in Stunning Redwood     \nThis is a great one-day course for any time of year\, and now is the perfect time as the birds prepare to build and nest.This elegant birdhouse design in Irish Redwood\, will add character in any garden environment and has all the qualities to last well outside in our Irish weather. \nIt is designed with all the correct measurements to suit the birds and in building it you will use new tools that you may not have tried previously. No experience is necessary for this course\, and the day spent in the workshop is relaxing and enjoyable\, and very rewarding. \nWhen you join us to build your Birdhouse\, you will also pick up new woodworking skills. We look forward to welcoming you to this course. \nCourse Cost €125.00
URL:https://www.bevelwoodworkingschool.com/event/bird-house-course-19-03-2022-saturday/
LOCATION:Bevel Woodworking School\, Fethard-on-Sea\,  Co. Wexford\, Ireland
CATEGORIES:Nesting Box,Outdoor Furniture,Redwood,Woodworking
ATTACH;FMTTYPE=image/jpeg:https://www.bevelwoodworkingschool.com/wwssite/wp-content/uploads/2022/02/IMG_7261-scaled-e1644161101506.jpg
GEO:52.1923021;-6.8402183
X-APPLE-STRUCTURED-LOCATION;VALUE=URI;X-ADDRESS=Bevel Woodworking School Fethard-on-Sea  Co. Wexford Ireland;X-APPLE-RADIUS=500;X-TITLE=Fethard-on-Sea:geo:-6.8402183,52.1923021
END:VEVENT
END:VCALENDAR