BEGIN:VCALENDAR
VERSION:2.0
PRODID:-//Bevel Woodworking School - ECPv6.15.20//NONSGML v1.0//EN
CALSCALE:GREGORIAN
METHOD:PUBLISH
X-WR-CALNAME:Bevel Woodworking School
X-ORIGINAL-URL:https://www.bevelwoodworkingschool.com
X-WR-CALDESC:Events for Bevel Woodworking School
REFRESH-INTERVAL;VALUE=DURATION:PT1H
X-Robots-Tag:noindex
X-PUBLISHED-TTL:PT1H
BEGIN:VTIMEZONE
TZID:Europe/London
BEGIN:DAYLIGHT
TZOFFSETFROM:+0000
TZOFFSETTO:+0100
TZNAME:BST
DTSTART:20210328T010000
END:DAYLIGHT
BEGIN:STANDARD
TZOFFSETFROM:+0100
TZOFFSETTO:+0000
TZNAME:GMT
DTSTART:20211031T010000
END:STANDARD
BEGIN:DAYLIGHT
TZOFFSETFROM:+0000
TZOFFSETTO:+0100
TZNAME:BST
DTSTART:20220327T010000
END:DAYLIGHT
BEGIN:STANDARD
TZOFFSETFROM:+0100
TZOFFSETTO:+0000
TZNAME:GMT
DTSTART:20221030T010000
END:STANDARD
BEGIN:DAYLIGHT
TZOFFSETFROM:+0000
TZOFFSETTO:+0100
TZNAME:BST
DTSTART:20230326T010000
END:DAYLIGHT
BEGIN:STANDARD
TZOFFSETFROM:+0100
TZOFFSETTO:+0000
TZNAME:GMT
DTSTART:20231029T010000
END:STANDARD
END:VTIMEZONE
BEGIN:VEVENT
DTSTART;TZID=Europe/London:20220611T090000
DTEND;TZID=Europe/London:20220611T170000
DTSTAMP:20260424T163537
CREATED:20220322T195921Z
LAST-MODIFIED:20220328T143226Z
UID:10000468-1654938000-1654966800@www.bevelwoodworkingschool.com
SUMMARY:Celtic Carving 11/06/2022  (Saturday)
DESCRIPTION:One Day Wood Carving  \nCome and share a wonderful day with a group of novice carvers. This one-day course is perfect for complete beginners. Wood carving is a skill that requires practice and lots of people choose to repeat the day as there are many different carving options. \nThe workshop is airy and ventilated and the atmosphere is relaxed. \nUsing sharp wood chisels and a timber mallet from your own tool cabinet\, you will be working at your own spacious workbench and will learn various techniques while creating a two-dimensional piece in lime wood. \nThe process is enjoyable and the results are always surprising! \nConsider this as part of a weekend or day out to the historic Hook Peninsula. \n  \nCourse Cost €100.00
URL:https://www.bevelwoodworkingschool.com/event/celtic-carving-11-06-2022-saturday/
LOCATION:Bevel Woodworking School\, Fethard-on-Sea\,  Co. Wexford\, Ireland
CATEGORIES:Tools,Woodcarving,Woodworking
ATTACH;FMTTYPE=image/jpeg:https://www.bevelwoodworkingschool.com/wwssite/wp-content/uploads/2022/03/IMG_1098-scaled-e1647979127680.jpg
GEO:52.1923021;-6.8402183
X-APPLE-STRUCTURED-LOCATION;VALUE=URI;X-ADDRESS=Bevel Woodworking School Fethard-on-Sea  Co. Wexford Ireland;X-APPLE-RADIUS=500;X-TITLE=Fethard-on-Sea:geo:-6.8402183,52.1923021
END:VEVENT
BEGIN:VEVENT
DTSTART;TZID=Europe/London:20220624T090000
DTEND;TZID=Europe/London:20220625T170000
DTSTAMP:20260424T163537
CREATED:20211201T184923Z
LAST-MODIFIED:20220525T100726Z
UID:10000455-1656061200-1656176400@www.bevelwoodworkingschool.com
SUMMARY:Workbench Course 24-25/06/2022  (Fri/Sat)
DESCRIPTION:Two Day Workbench Course         \nWould you like to have your own workbench\, to enable you to work in your own work area\, at your own pace and undisturbed? If your answer is yes\, then maybe this is the right opportunity for you to get the most important piece of equipment in place. \nThis is a two-day course in which you will construct your own workbench from 90mm x 90mm timber with 225mm x 60mm planks in the top. Some variables in size will be allowed. Some experience is necessary for this course. Material cost is all included with the exception of the vice. The cost of the vice is not included\, but you can purchase your own and fit it to the bench on the course. \nIf you need some advice on what vice to purchase please ask\, and we will guide you. You will complete a piece that will enable you to undertake your own woodwork projects in your own workspace. \n  \nCourse Cost €480.00
URL:https://www.bevelwoodworkingschool.com/event/workbench-course-26-27-03-2022-sat-sun/
LOCATION:Bevel Woodworking School\, Fethard-on-Sea\,  Co. Wexford\, Ireland
CATEGORIES:Woodcarving,Woodworking,Workbench
ATTACH;FMTTYPE=image/jpeg:https://www.bevelwoodworkingschool.com/wwssite/wp-content/uploads/2017/03/workbench-course.jpg
GEO:52.1923021;-6.8402183
X-APPLE-STRUCTURED-LOCATION;VALUE=URI;X-ADDRESS=Bevel Woodworking School Fethard-on-Sea  Co. Wexford Ireland;X-APPLE-RADIUS=500;X-TITLE=Fethard-on-Sea:geo:-6.8402183,52.1923021
END:VEVENT
END:VCALENDAR