BEGIN:VCALENDAR
VERSION:2.0
PRODID:-//Bevel Woodworking School - ECPv6.15.20//NONSGML v1.0//EN
CALSCALE:GREGORIAN
METHOD:PUBLISH
X-ORIGINAL-URL:https://www.bevelwoodworkingschool.com
X-WR-CALDESC:Events for Bevel Woodworking School
REFRESH-INTERVAL;VALUE=DURATION:PT1H
X-Robots-Tag:noindex
X-PUBLISHED-TTL:PT1H
BEGIN:VTIMEZONE
TZID:Europe/London
BEGIN:DAYLIGHT
TZOFFSETFROM:+0000
TZOFFSETTO:+0100
TZNAME:BST
DTSTART:20230326T010000
END:DAYLIGHT
BEGIN:STANDARD
TZOFFSETFROM:+0100
TZOFFSETTO:+0000
TZNAME:GMT
DTSTART:20231029T010000
END:STANDARD
BEGIN:DAYLIGHT
TZOFFSETFROM:+0000
TZOFFSETTO:+0100
TZNAME:BST
DTSTART:20240331T010000
END:DAYLIGHT
BEGIN:STANDARD
TZOFFSETFROM:+0100
TZOFFSETTO:+0000
TZNAME:GMT
DTSTART:20241027T010000
END:STANDARD
BEGIN:DAYLIGHT
TZOFFSETFROM:+0000
TZOFFSETTO:+0100
TZNAME:BST
DTSTART:20250330T010000
END:DAYLIGHT
BEGIN:STANDARD
TZOFFSETFROM:+0100
TZOFFSETTO:+0000
TZNAME:GMT
DTSTART:20251026T010000
END:STANDARD
END:VTIMEZONE
BEGIN:VEVENT
DTSTART;TZID=Europe/London:20240210T090000
DTEND;TZID=Europe/London:20240211T170000
DTSTAMP:20260423T132537
CREATED:20231004T145126Z
LAST-MODIFIED:20240123T120753Z
UID:10000519-1707555600-1707670800@www.bevelwoodworkingschool.com
SUMMARY:Freestanding Bird Table   10-11/02/2024 (Saturday/Sunday)
DESCRIPTION:Build a Freestanding Bird Table    \nThis is a new two-day course. We recently trialled it with the Ramsgrange Mens-shed and it received a thumbs up\, so we are ready  to offer it now as a new Woodworking Course \nThe Bird Table is constructed in two different timbers\, Scandinavian Pine and Redwood. The overall height is over 6ft. The table can be removed for transport in a car. \nThis is the perfect piece to have for your winter garden if you want to provide feed for the garden birds. As it is freestanding it will work on a patio\, in a garden or in any type of outdoor space. \nCourse Cost €260.00
URL:https://www.bevelwoodworkingschool.com/event/freestanding-bird-table-10-11-02-2024-saturday-sunday/
LOCATION:Bevel Woodworking School\, Fethard-on-Sea\,  Co. Wexford\, Ireland
CATEGORIES:Outdoor Furniture,Redwood,Tools,Woodcarving,Woodworking
ATTACH;FMTTYPE=image/jpeg:https://www.bevelwoodworkingschool.com/wwssite/wp-content/uploads/2023/05/IMG_5953-scaled-e1730900221893.jpeg
GEO:52.1923021;-6.8402183
X-APPLE-STRUCTURED-LOCATION;VALUE=URI;X-ADDRESS=Bevel Woodworking School Fethard-on-Sea  Co. Wexford Ireland;X-APPLE-RADIUS=500;X-TITLE=Fethard-on-Sea:geo:-6.8402183,52.1923021
END:VEVENT
BEGIN:VEVENT
DTSTART;TZID=Europe/London:20240225T090000
DTEND;TZID=Europe/London:20240225T170000
DTSTAMP:20260423T132537
CREATED:20231004T144411Z
LAST-MODIFIED:20240220T121317Z
UID:10000518-1708851600-1708880400@www.bevelwoodworkingschool.com
SUMMARY:***New Course***  The Trug      Sunday 25 February 2024
DESCRIPTION:This is a brand new one-day course. We have successfully trialled it with The Ramsgrange Mens Shed and we are happy to offer it now. \nThe Trug is a great beginners course. You will be learning to use the following tools\, a jigsaw\, a handplane\, a tennon saw\, a spokeshave\, a battery drill\, a battery screwdriver and the pillar drill. You may already be familiar with some or all of these\, but if you are not\, this is the perfect chance to come and learn safely and with the bonus of taking home the beautiful Trug. \nMade from Pine\, the Trug can be used to carry anything\, vegetables from the garden\, apples from the orchard\, or your knitting around your house. It will be an addition in any home and can be used in lots of ways. \nThis is great opportunity to see the workshop\, and meet the course instructor\, and discover if other courses might appeal to you as well \nCourse Cost €115.00
URL:https://www.bevelwoodworkingschool.com/event/new-course-the-trug-sunday-25-february-2024/
LOCATION:Bevel Woodworking School\, Fethard-on-Sea\,  Co. Wexford\, Ireland
CATEGORIES:Outdoor Furniture,Tools,Woodworking
ATTACH;FMTTYPE=image/jpeg:https://www.bevelwoodworkingschool.com/wwssite/wp-content/uploads/2023/10/trug.jpg
GEO:52.1923021;-6.8402183
X-APPLE-STRUCTURED-LOCATION;VALUE=URI;X-ADDRESS=Bevel Woodworking School Fethard-on-Sea  Co. Wexford Ireland;X-APPLE-RADIUS=500;X-TITLE=Fethard-on-Sea:geo:-6.8402183,52.1923021
END:VEVENT
END:VCALENDAR