BEGIN:VCALENDAR
VERSION:2.0
PRODID:-//Bevel Woodworking School - ECPv6.15.20//NONSGML v1.0//EN
CALSCALE:GREGORIAN
METHOD:PUBLISH
X-WR-CALNAME:Bevel Woodworking School
X-ORIGINAL-URL:https://www.bevelwoodworkingschool.com
X-WR-CALDESC:Events for Bevel Woodworking School
REFRESH-INTERVAL;VALUE=DURATION:PT1H
X-Robots-Tag:noindex
X-PUBLISHED-TTL:PT1H
BEGIN:VTIMEZONE
TZID:Europe/London
BEGIN:DAYLIGHT
TZOFFSETFROM:+0000
TZOFFSETTO:+0100
TZNAME:BST
DTSTART:20230326T010000
END:DAYLIGHT
BEGIN:STANDARD
TZOFFSETFROM:+0100
TZOFFSETTO:+0000
TZNAME:GMT
DTSTART:20231029T010000
END:STANDARD
BEGIN:DAYLIGHT
TZOFFSETFROM:+0000
TZOFFSETTO:+0100
TZNAME:BST
DTSTART:20240331T010000
END:DAYLIGHT
BEGIN:STANDARD
TZOFFSETFROM:+0100
TZOFFSETTO:+0000
TZNAME:GMT
DTSTART:20241027T010000
END:STANDARD
BEGIN:DAYLIGHT
TZOFFSETFROM:+0000
TZOFFSETTO:+0100
TZNAME:BST
DTSTART:20250330T010000
END:DAYLIGHT
BEGIN:STANDARD
TZOFFSETFROM:+0100
TZOFFSETTO:+0000
TZNAME:GMT
DTSTART:20251026T010000
END:STANDARD
END:VTIMEZONE
BEGIN:VEVENT
DTSTART;VALUE=DATE:20240329
DTEND;VALUE=DATE:20240331
DTSTAMP:20260423T115633
CREATED:20231112T205003Z
LAST-MODIFIED:20231206T142914Z
UID:10000522-1711670400-1711843199@www.bevelwoodworkingschool.com
SUMMARY:Workbench Course 29/30 March 2024  (Fri / Sat)
DESCRIPTION:Two-Day Workbench Course  ***(Note it takes place on Friday/Saturday)      \nWould you like to have your own workbench\, to enable you to work in your own work area\, at your own pace and undisturbed? If your answer is yes\, then maybe this is the right opportunity for you to get the most important piece of equipment in place. \nThis is a two-day course in which you will construct your own workbench from 90mm x 90mm timber with 225mm x 60mm planks in the top. Some variables in size will be allowed. Some experience is necessary for this course. Material cost is all included with the exception of the vice. The cost of the vice is not included\, but you can purchase your own and fit it to the bench on the course. \nIf you need some advice on what vice to purchase please ask\, and we will guide you. You will complete a piece that will enable you to undertake your own woodwork projects in your own workspace. \n  \nCourse Cost €500.00
URL:https://www.bevelwoodworkingschool.com/event/workbench-course-29-30-march-2024-fri-sat/
LOCATION:Bevel Woodworking School\, Fethard-on-Sea\,  Co. Wexford\, Ireland
CATEGORIES:ADIRONDACK,Outdoor Furniture,Woodcarving,Woodworking
ATTACH;FMTTYPE=image/jpeg:https://www.bevelwoodworkingschool.com/wwssite/wp-content/uploads/2023/11/IMG_3975-copy-scaled-e1699821949668.jpeg
GEO:52.1923021;-6.8402183
X-APPLE-STRUCTURED-LOCATION;VALUE=URI;X-ADDRESS=Bevel Woodworking School Fethard-on-Sea  Co. Wexford Ireland;X-APPLE-RADIUS=500;X-TITLE=Fethard-on-Sea:geo:-6.8402183,52.1923021
END:VEVENT
END:VCALENDAR