BEGIN:VCALENDAR
VERSION:2.0
PRODID:-//Bevel Woodworking School - ECPv6.15.20//NONSGML v1.0//EN
CALSCALE:GREGORIAN
METHOD:PUBLISH
X-WR-CALNAME:Bevel Woodworking School
X-ORIGINAL-URL:https://www.bevelwoodworkingschool.com
X-WR-CALDESC:Events for Bevel Woodworking School
REFRESH-INTERVAL;VALUE=DURATION:PT1H
X-Robots-Tag:noindex
X-PUBLISHED-TTL:PT1H
BEGIN:VTIMEZONE
TZID:Europe/London
BEGIN:DAYLIGHT
TZOFFSETFROM:+0000
TZOFFSETTO:+0100
TZNAME:BST
DTSTART:20210328T010000
END:DAYLIGHT
BEGIN:STANDARD
TZOFFSETFROM:+0100
TZOFFSETTO:+0000
TZNAME:GMT
DTSTART:20211031T010000
END:STANDARD
BEGIN:DAYLIGHT
TZOFFSETFROM:+0000
TZOFFSETTO:+0100
TZNAME:BST
DTSTART:20220327T010000
END:DAYLIGHT
BEGIN:STANDARD
TZOFFSETFROM:+0100
TZOFFSETTO:+0000
TZNAME:GMT
DTSTART:20221030T010000
END:STANDARD
BEGIN:DAYLIGHT
TZOFFSETFROM:+0000
TZOFFSETTO:+0100
TZNAME:BST
DTSTART:20230326T010000
END:DAYLIGHT
BEGIN:STANDARD
TZOFFSETFROM:+0100
TZOFFSETTO:+0000
TZNAME:GMT
DTSTART:20231029T010000
END:STANDARD
END:VTIMEZONE
BEGIN:VEVENT
DTSTART;TZID=Europe/London:20220209T090000
DTEND;TZID=Europe/London:20220209T170000
DTSTAMP:20260425T004753
CREATED:20211202T175412Z
LAST-MODIFIED:20220104T175606Z
UID:10000459-1644397200-1644426000@www.bevelwoodworkingschool.com
SUMMARY:Owl Carving 09/02/2022  Wednesday
DESCRIPTION:One Day Wood Carving  \nCome and share a wonderful day with a group of novice carvers. This one-day course is perfect for complete beginners. Wood carving is a skill that requires practice and lots of people choose to repeat the day as there are many different carving options. \nThe workshop is airy and ventilated and the atmosphere is relaxed. \nUsing sharp wood chisels and a timber mallet from your own tool cabinet\, you will be working at your own spacious workbench and will learn various techniques while creating a two-dimensional piece in lime wood. \nThe process is enjoyable and the results are always surprising! \nConsider this as part of a trip to the historic Hook Peninsula. \n  \nCourse Cost €100.00
URL:https://www.bevelwoodworkingschool.com/event/owl-carving-09-02-2022-wednesday/
LOCATION:Bevel Woodworking School\, Fethard-on-Sea\,  Co. Wexford\, Ireland
CATEGORIES:Nesting Box,Woodcarving,Woodworking
ATTACH;FMTTYPE=image/jpeg:https://www.bevelwoodworkingschool.com/wwssite/wp-content/uploads/2019/10/IMG_2099-e1572205804127.jpg
GEO:52.1923021;-6.8402183
X-APPLE-STRUCTURED-LOCATION;VALUE=URI;X-ADDRESS=Bevel Woodworking School Fethard-on-Sea  Co. Wexford Ireland;X-APPLE-RADIUS=500;X-TITLE=Fethard-on-Sea:geo:-6.8402183,52.1923021
END:VEVENT
END:VCALENDAR