BEGIN:VCALENDAR
VERSION:2.0
PRODID:-//Bevel Woodworking School - ECPv6.15.20//NONSGML v1.0//EN
CALSCALE:GREGORIAN
METHOD:PUBLISH
X-ORIGINAL-URL:https://www.bevelwoodworkingschool.com
X-WR-CALDESC:Events for Bevel Woodworking School
REFRESH-INTERVAL;VALUE=DURATION:PT1H
X-Robots-Tag:noindex
X-PUBLISHED-TTL:PT1H
BEGIN:VTIMEZONE
TZID:Europe/London
BEGIN:DAYLIGHT
TZOFFSETFROM:+0000
TZOFFSETTO:+0100
TZNAME:BST
DTSTART:20230326T010000
END:DAYLIGHT
BEGIN:STANDARD
TZOFFSETFROM:+0100
TZOFFSETTO:+0000
TZNAME:GMT
DTSTART:20231029T010000
END:STANDARD
BEGIN:DAYLIGHT
TZOFFSETFROM:+0000
TZOFFSETTO:+0100
TZNAME:BST
DTSTART:20240331T010000
END:DAYLIGHT
BEGIN:STANDARD
TZOFFSETFROM:+0100
TZOFFSETTO:+0000
TZNAME:GMT
DTSTART:20241027T010000
END:STANDARD
BEGIN:DAYLIGHT
TZOFFSETFROM:+0000
TZOFFSETTO:+0100
TZNAME:BST
DTSTART:20250330T010000
END:DAYLIGHT
BEGIN:STANDARD
TZOFFSETFROM:+0100
TZOFFSETTO:+0000
TZNAME:GMT
DTSTART:20251026T010000
END:STANDARD
END:VTIMEZONE
BEGIN:VEVENT
DTSTART;TZID=Europe/London:20240802T090000
DTEND;TZID=Europe/London:20240802T170000
DTSTAMP:20260423T055838
CREATED:20240406T132407Z
LAST-MODIFIED:20251014T124605Z
UID:10000532-1722589200-1722618000@www.bevelwoodworkingschool.com
SUMMARY:Tool Sharpening and Tuning      Friday  2nd August 2024
DESCRIPTION:One-Day Tool Tune-Up \nThis course is designed to show you how to sharpen and fine-tune your own woodwork tools. \nIt is relevant for brand-new and used tools. \nMany tools when purchased new may need the grinding angle to be corrected and other adjustments to be made.  Learning how to do this will ensure your tools will remain in top condition for years of use\, and will allow you to bring older tools back to life. \nWe will focus on flat and carving woodworking chisels\, also a range of hand planes and the spokeshave. You are welcome to bring along your own Work-working Tools on the day to sharpen and tune. \nThe course will facilitate you using a number of different sharpening methods\, which will include the electric waterstone\, the oilstone\, the diamond stone and the leather strop. You will also learn how to maintain each of the sharpening tools\, so that you can maintain your own tools at home. \nNote:this course is not suitable for gardening tools. \nCourse Cost €100.00
URL:https://www.bevelwoodworkingschool.com/event/tool-sharpening-and-tuning-friday-2nd-august-2024/
LOCATION:Bevel Woodworking School\, Fethard-on-Sea\,  Co. Wexford\, Ireland
CATEGORIES:Tools,Woodcarving,Woodworking,Workbench
ATTACH;FMTTYPE=image/jpeg:https://www.bevelwoodworkingschool.com/wwssite/wp-content/uploads/2017/02/tool-cabinet-e1491757916800.jpg
GEO:52.1923021;-6.8402183
X-APPLE-STRUCTURED-LOCATION;VALUE=URI;X-ADDRESS=Bevel Woodworking School Fethard-on-Sea  Co. Wexford Ireland;X-APPLE-RADIUS=500;X-TITLE=Fethard-on-Sea:geo:-6.8402183,52.1923021
END:VEVENT
BEGIN:VEVENT
DTSTART;TZID=Europe/London:20240803T090000
DTEND;TZID=Europe/London:20240803T170000
DTSTAMP:20260423T055838
CREATED:20240406T135449Z
LAST-MODIFIED:20240421T094948Z
UID:10000533-1722675600-1722704400@www.bevelwoodworkingschool.com
SUMMARY:Carving a Woodspirit   Saturday  03/08/2024
DESCRIPTION:This is a wonderful introduction to the Workshop environment. \nCarving the Woodspirit is one-day course. You will discover that it is a very hands-on experience\, but not just your hands\, your full attention will be engaged. You will be using carving chisels and a timber mallet\, and your energy and imagination will be drawn in as you progress. Your own creativity will have space to develop\, with careful guidance and plenty of encouragement from your tutor Tommy. The project is different for everybody who takes part because each finished piece is unique. \nThis is a great day out\, you will enjoy learning a new skill or improve your carving if you have already tried it before. You will enjoy focusing your mind on the task and meeting a few new people and you will be surprised at what you can create. \nCourse Cost €100.00
URL:https://www.bevelwoodworkingschool.com/event/carving-a-woodspirit-saturday-03-08-2024/
LOCATION:Bevel Woodworking School\, Fethard-on-Sea\,  Co. Wexford\, Ireland
CATEGORIES:Tools,Woodcarving,Woodworking
ATTACH;FMTTYPE=image/jpeg:https://www.bevelwoodworkingschool.com/wwssite/wp-content/uploads/2021/09/IMG_3591-scaled-e1633701742521.jpg
GEO:52.1923021;-6.8402183
X-APPLE-STRUCTURED-LOCATION;VALUE=URI;X-ADDRESS=Bevel Woodworking School Fethard-on-Sea  Co. Wexford Ireland;X-APPLE-RADIUS=500;X-TITLE=Fethard-on-Sea:geo:-6.8402183,52.1923021
END:VEVENT
END:VCALENDAR