BEGIN:VCALENDAR
VERSION:2.0
PRODID:-//Bevel Woodworking School - ECPv6.15.20//NONSGML v1.0//EN
CALSCALE:GREGORIAN
METHOD:PUBLISH
X-ORIGINAL-URL:https://www.bevelwoodworkingschool.com
X-WR-CALDESC:Events for Bevel Woodworking School
REFRESH-INTERVAL;VALUE=DURATION:PT1H
X-Robots-Tag:noindex
X-PUBLISHED-TTL:PT1H
BEGIN:VTIMEZONE
TZID:Europe/London
BEGIN:DAYLIGHT
TZOFFSETFROM:+0000
TZOFFSETTO:+0100
TZNAME:BST
DTSTART:20180325T010000
END:DAYLIGHT
BEGIN:STANDARD
TZOFFSETFROM:+0100
TZOFFSETTO:+0000
TZNAME:GMT
DTSTART:20181028T010000
END:STANDARD
BEGIN:DAYLIGHT
TZOFFSETFROM:+0000
TZOFFSETTO:+0100
TZNAME:BST
DTSTART:20190331T010000
END:DAYLIGHT
BEGIN:STANDARD
TZOFFSETFROM:+0100
TZOFFSETTO:+0000
TZNAME:GMT
DTSTART:20191027T010000
END:STANDARD
BEGIN:DAYLIGHT
TZOFFSETFROM:+0000
TZOFFSETTO:+0100
TZNAME:BST
DTSTART:20200329T010000
END:DAYLIGHT
BEGIN:STANDARD
TZOFFSETFROM:+0100
TZOFFSETTO:+0000
TZNAME:GMT
DTSTART:20201025T010000
END:STANDARD
BEGIN:DAYLIGHT
TZOFFSETFROM:+0000
TZOFFSETTO:+0100
TZNAME:BST
DTSTART:20210328T010000
END:DAYLIGHT
BEGIN:STANDARD
TZOFFSETFROM:+0100
TZOFFSETTO:+0000
TZNAME:GMT
DTSTART:20211031T010000
END:STANDARD
BEGIN:DAYLIGHT
TZOFFSETFROM:+0000
TZOFFSETTO:+0100
TZNAME:BST
DTSTART:20220327T010000
END:DAYLIGHT
BEGIN:STANDARD
TZOFFSETFROM:+0100
TZOFFSETTO:+0000
TZNAME:GMT
DTSTART:20221030T010000
END:STANDARD
BEGIN:DAYLIGHT
TZOFFSETFROM:+0000
TZOFFSETTO:+0100
TZNAME:BST
DTSTART:20230326T010000
END:DAYLIGHT
BEGIN:STANDARD
TZOFFSETFROM:+0100
TZOFFSETTO:+0000
TZNAME:GMT
DTSTART:20231029T010000
END:STANDARD
END:VTIMEZONE
BEGIN:VEVENT
DTSTART;TZID=Europe/London:20220123T090000
DTEND;TZID=Europe/London:20220123T170000
DTSTAMP:20260421T155703
CREATED:20211201T190854Z
LAST-MODIFIED:20220120T193843Z
UID:10000458-1642928400-1642957200@www.bevelwoodworkingschool.com
SUMMARY:Carving a Woodspirit  23/01/2022
DESCRIPTION:This is a wonderful introduction to the Workshop environment. \nCarving the Woodspirit is one day course. You will discover that it is a very hands-on experience\, but not just your hands\, your full attention will be engaged. You will be using carving chisels and a timber mallet\, and your energy and imagination will be drawn in as you progress. Your own creativity will have space to develop\, with careful guidance and plenty of encouragement from your tutor Tommy. The project is different for everybody who takes part because each finished piece is unique. \nThis is a great day out\, you will enjoy learning a new skill or improve your carving if you have already tried it before\, you will enjoy focusing your mind on the task and you will be surprised at what you can create. \nCourse Cost €100.00
URL:https://www.bevelwoodworkingschool.com/event/carving-a-woodspirit-23-01-2022/
LOCATION:Bevel Woodworking School\, Fethard-on-Sea\,  Co. Wexford\, Ireland
CATEGORIES:Woodcarving,Woodworking,Workbench
ATTACH;FMTTYPE=image/jpeg:https://www.bevelwoodworkingschool.com/wwssite/wp-content/uploads/2017/03/wood-carving-course.jpg
GEO:52.1923021;-6.8402183
X-APPLE-STRUCTURED-LOCATION;VALUE=URI;X-ADDRESS=Bevel Woodworking School Fethard-on-Sea  Co. Wexford Ireland;X-APPLE-RADIUS=500;X-TITLE=Fethard-on-Sea:geo:-6.8402183,52.1923021
END:VEVENT
BEGIN:VEVENT
DTSTART;TZID=Europe/London:20220121T090000
DTEND;TZID=Europe/London:20220121T170000
DTSTAMP:20260421T155703
CREATED:20211201T190221Z
LAST-MODIFIED:20220117T100050Z
UID:10000457-1642755600-1642784400@www.bevelwoodworkingschool.com
SUMMARY:Bird House Course  21/01/2022  (Friday)
DESCRIPTION:Build a Beautiful Birdhouse in Stunning Redwood     \nThis is a perfect one-day course for any time of year. This elegant birdhouse design in Irish Redwood\, will add character in any garden environment and has all the qualities to last well outside in our Irish weather. \nIt is designed with all the correct measurements to suit the birds and in building it you will use new tools that you may not have tried previously. No experience is necessary for this course\, and the day spent in the workshop is relaxing and enjoyable\, and very rewarding. \nWhen you join us to build your Birdhouse\, you will also pick up new woodworking skills. We look forward to welcoming you to this course. \nCourse Cost €125.00
URL:https://www.bevelwoodworkingschool.com/event/bird-house-course-21-01-2022-friday/
LOCATION:Bevel Woodworking School\, Fethard-on-Sea\,  Co. Wexford\, Ireland
CATEGORIES:Nesting Box,Woodworking,Workbench
ATTACH;FMTTYPE=image/jpeg:https://www.bevelwoodworkingschool.com/wwssite/wp-content/uploads/2019/10/Barbara-2-e1572201152433.jpg
GEO:52.1923021;-6.8402183
X-APPLE-STRUCTURED-LOCATION;VALUE=URI;X-ADDRESS=Bevel Woodworking School Fethard-on-Sea  Co. Wexford Ireland;X-APPLE-RADIUS=500;X-TITLE=Fethard-on-Sea:geo:-6.8402183,52.1923021
END:VEVENT
BEGIN:VEVENT
DTSTART;TZID=Europe/London:20211113T090000
DTEND;TZID=Europe/London:20211114T170000
DTSTAMP:20260421T155703
CREATED:20210828T172947Z
LAST-MODIFIED:20210829T085426Z
UID:10000441-1636794000-1636909200@www.bevelwoodworkingschool.com
SUMMARY:Workbench Course 13-14/11/2021
DESCRIPTION:Two Day Workbench Course         \nWould you like to have your own workbench\, to enable you to work in your own work area\, at your own pace and undisturbed? If your answer is yes\, then maybe this is the right opportunity for you to get the most important piece of equipment in place. \nThis is a two-day course in which you will construct your own workbench from 90mm x 90mm timber with 225mm x 60mm planks in the top. Some variables in size will be allowed. Some experience is necessary for this course. Material cost is all included with the exception of the vice. The cost of the vice is not included\, but you can purchase your own and fit it to the bench on the course. \nIf you need some advice on what vice to purchase please ask\, and we will guide you. You will complete a piece that will enable you to undertake your own woodwork projects in your own workspace. \n  \nCourse Cost €440.00
URL:https://www.bevelwoodworkingschool.com/event/workbench-course-13-14-11-2021-2/
LOCATION:Bevel Woodworking School\, Fethard-on-Sea\,  Co. Wexford\, Ireland
CATEGORIES:Outdoor Furniture,Woodcarving,Woodworking,Workbench
ATTACH;FMTTYPE=image/jpeg:https://www.bevelwoodworkingschool.com/wwssite/wp-content/uploads/2017/03/workbench-course.jpg
GEO:52.1923021;-6.8402183
X-APPLE-STRUCTURED-LOCATION;VALUE=URI;X-ADDRESS=Bevel Woodworking School Fethard-on-Sea  Co. Wexford Ireland;X-APPLE-RADIUS=500;X-TITLE=Fethard-on-Sea:geo:-6.8402183,52.1923021
END:VEVENT
BEGIN:VEVENT
DTSTART;TZID=Europe/London:20211030T090000
DTEND;TZID=Europe/London:20211030T170000
DTSTAMP:20260421T155703
CREATED:20210909T160135Z
LAST-MODIFIED:20210909T160135Z
UID:10000446-1635584400-1635613200@www.bevelwoodworkingschool.com
SUMMARY:Tool Sharpening and Tuning   30/10/2021
DESCRIPTION:One Day Tool Tune-Up \nThis course is designed to show you how to sharpen and fine-tune your own woodwork tools. \nIt is relevant for brand new and used tools. \nMost tools when purchased new are not fit for use and need the grinding angle to be corrected and other adjustments to be made. \nWe will focus on flat and carving woodworking chisels\, also a range of hand planes and the spokeshave. You are welcome to bring along your own tools on the day to sharpen and tune. \nThe course will facilitate you using a number of different sharpening methods\, which will include the electric waterstone\, the oilstone\, the diamond stone and the leather strop. You will also learn how to maintain each of the sharpening tools\, so that you can maintain your own tools at home. \nCourse Cost €90.00
URL:https://www.bevelwoodworkingschool.com/event/tool-sharpening-and-tuning-30-10-2021/
LOCATION:Bevel Woodworking School\, Fethard-on-Sea\,  Co. Wexford\, Ireland
CATEGORIES:Woodworking,Workbench
ATTACH;FMTTYPE=image/jpeg:https://www.bevelwoodworkingschool.com/wwssite/wp-content/uploads/2019/05/741C2FA8-DC46-42CC-86B7-6042C31D6F03-2-e1572199422498.jpg
GEO:52.1923021;-6.8402183
X-APPLE-STRUCTURED-LOCATION;VALUE=URI;X-ADDRESS=Bevel Woodworking School Fethard-on-Sea  Co. Wexford Ireland;X-APPLE-RADIUS=500;X-TITLE=Fethard-on-Sea:geo:-6.8402183,52.1923021
END:VEVENT
BEGIN:VEVENT
DTSTART;TZID=Europe/London:20210927T090000
DTEND;TZID=Europe/London:20210927T170000
DTSTAMP:20260421T155703
CREATED:20210828T173639Z
LAST-MODIFIED:20210828T173639Z
UID:10000442-1632733200-1632762000@www.bevelwoodworkingschool.com
SUMMARY:Spoon Carving Course 27/09/2021
DESCRIPTION:All-day to Carve a Wooden Spoon.         \nTreat yourself to this unique day out. \nCarving a wooden spoon\, really?  This might seem like a pointless exercise to some\, but it has turned out to be one of our most popular days in the workshop. \nDemonstrated step-by-step sample spoons are there to guide you through each stage. the timber you will use is sycamore\, cherry\, or walnut\, and the hand tools you will be using are carving chisels\, spokeshave\, coping saw and panel saw. You will take home a spoon you have crafted yourself. That spoon will take its place in your kitchen and be a reminder of this special day. \nIf you have already carved a spoon with us\, you now have an opportunity to carve a more complex spoon\, as the day is designed to suit different skill levels. \n“The expert in anything was once a beginner” \nCourse Cost €100.00
URL:https://www.bevelwoodworkingschool.com/event/spoon-carving-course-27-09-2021-2/
LOCATION:Bevel Woodworking School\, Fethard-on-Sea\,  Co. Wexford\, Ireland
CATEGORIES:Woodcarving,Woodworking,Workbench
ATTACH;FMTTYPE=image/jpeg:https://www.bevelwoodworkingschool.com/wwssite/wp-content/uploads/2018/11/IMG_0511-2-e1630172142384.jpg
GEO:52.1923021;-6.8402183
X-APPLE-STRUCTURED-LOCATION;VALUE=URI;X-ADDRESS=Bevel Woodworking School Fethard-on-Sea  Co. Wexford Ireland;X-APPLE-RADIUS=500;X-TITLE=Fethard-on-Sea:geo:-6.8402183,52.1923021
END:VEVENT
BEGIN:VEVENT
DTSTART;TZID=Europe/London:20201114T090000
DTEND;TZID=Europe/London:20201115T170000
DTSTAMP:20260421T155703
CREATED:20200910T135621Z
LAST-MODIFIED:20200915T185917Z
UID:10000431-1605344400-1605459600@www.bevelwoodworkingschool.com
SUMMARY:Workbench Course 14-15/11/2020
DESCRIPTION:Two Day Workbench Course \nWould you like to have your own workbench\, to enable you to work in your own work area\, at your own pace and undisturbed? If your answer is yes\, then maybe this is the right opportunity for you to get the most important piece of equipment in place. \nThis is a two-day course in which you will construct your own workbench from 90mm x 90mm timber with 225mm x 60mm planks in the top. Some variables in size will be allowed. Some experience is necessary for this course. Material cost is all included with the exception of the vice. The cost of the vice is not included\, but you can purchase your own and fit it to the bench on the course. \nIf you need some advice on what vice to purchase please ask\, and we will guide you. You will complete a piece that will enable you to undertake your own woodwork projects in your own workspace.
URL:https://www.bevelwoodworkingschool.com/event/workbench-course-14-15-11-2020/
LOCATION:Bevel Woodworking School\, Fethard-on-Sea\,  Co. Wexford\, Ireland
CATEGORIES:Woodcarving,Woodworking,Workbench
ATTACH;FMTTYPE=image/jpeg:https://www.bevelwoodworkingschool.com/wwssite/wp-content/uploads/2017/03/workbench-course.jpg
GEO:52.1923021;-6.8402183
X-APPLE-STRUCTURED-LOCATION;VALUE=URI;X-ADDRESS=Bevel Woodworking School Fethard-on-Sea  Co. Wexford Ireland;X-APPLE-RADIUS=500;X-TITLE=Fethard-on-Sea:geo:-6.8402183,52.1923021
END:VEVENT
BEGIN:VEVENT
DTSTART;TZID=Europe/London:20200926T090000
DTEND;TZID=Europe/London:20200927T170000
DTSTAMP:20260421T155703
CREATED:20200824T103838Z
LAST-MODIFIED:20200824T163053Z
UID:10000424-1601110800-1601226000@www.bevelwoodworkingschool.com
SUMMARY:**New Course**  Scandinavian Pine Lounger  26-27/09/2020
DESCRIPTION:Two Day Scandinavian Pine Lounger Course. \nThis is a 2-day course (9.00 am to 5.00 pm each day). During the two days\, you make the beautiful Lounger chair. Led by mastercraftsman Tommy\, you will be guided through the process using a variety of tools.  Handsaws\, hand planes\, spokeshave\, jigsaw\, square\, measuring tape\, battery screwgun\, drill and wood chisel. All these handtools will be part of the process and you will learn to use them as you go along. \nIf you are unfamiliar with any of these tools\, rest assured\, as Tommy will demonstrate and explain how to use each one safely before you begin. \nAt the end of day 2\, you will be taking home your own Lounger\, and deciding the best spot for it. You will also be taking home some new skills with hand tools and plenty of inspiration about what to try next. \nThe group size is restricted to 5 people\, and the workshop is very spacious. Each person will work on their own workbench using their own set of tools.
URL:https://www.bevelwoodworkingschool.com/event/new-course-scandinavian-pine-lounger-26-27-09-2020/
LOCATION:Bevel Woodworking School\, Fethard-on-Sea\,  Co. Wexford\, Ireland
CATEGORIES:Outdoor Furniture,Woodworking,Workbench
ATTACH;FMTTYPE=image/jpeg:https://www.bevelwoodworkingschool.com/wwssite/wp-content/uploads/2020/06/WhatsApp-Image-2020-06-02-at-18.21.42-e1591118717381.jpeg
GEO:52.1923021;-6.8402183
X-APPLE-STRUCTURED-LOCATION;VALUE=URI;X-ADDRESS=Bevel Woodworking School Fethard-on-Sea  Co. Wexford Ireland;X-APPLE-RADIUS=500;X-TITLE=Fethard-on-Sea:geo:-6.8402183,52.1923021
END:VEVENT
BEGIN:VEVENT
DTSTART;TZID=Europe/London:20200321T090000
DTEND;TZID=Europe/London:20200321T170000
DTSTAMP:20260421T155703
CREATED:20191217T100456Z
LAST-MODIFIED:20191217T101125Z
UID:10000414-1584781200-1584810000@www.bevelwoodworkingschool.com
SUMMARY:Wood Carving 21/03/2020
DESCRIPTION:One Day Wood Carving  \nCome and share a wonderful day with a group of novice carvers. This one day course is perfect for complete beginners. Wood carving is a skill which requires practice and lots of people choose to repeat the day as there are many different carving options. \nThe workshop is cosy\, the atmosphere is relaxed\, and the kettle is always boiled. \nUsing sharp wood chisels and a timber mallet from your own tool cabinet\, you will be working at your own spacious workbench and will learn various techniques while creating a two-dimensional piece in lime wood. \nThe process is enjoyable and the results are always surprising! \nConsider this as part of a weekend or day out to the historic Hook Peninsula. \n 
URL:https://www.bevelwoodworkingschool.com/event/wood-carving-21-03-2020/
LOCATION:Bevel Woodworking School\, Fethard-on-Sea\,  Co. Wexford\, Ireland
CATEGORIES:Woodcarving,Workbench
ATTACH;FMTTYPE=image/jpeg:https://www.bevelwoodworkingschool.com/wwssite/wp-content/uploads/2019/10/IMG_2099-e1572205804127.jpg
GEO:52.1923021;-6.8402183
X-APPLE-STRUCTURED-LOCATION;VALUE=URI;X-ADDRESS=Bevel Woodworking School Fethard-on-Sea  Co. Wexford Ireland;X-APPLE-RADIUS=500;X-TITLE=Fethard-on-Sea:geo:-6.8402183,52.1923021
END:VEVENT
BEGIN:VEVENT
DTSTART;TZID=Europe/London:20200229T090000
DTEND;TZID=Europe/London:20200301T170000
DTSTAMP:20260421T155703
CREATED:20191027T184703Z
LAST-MODIFIED:20200110T200011Z
UID:10000409-1582966800-1583082000@www.bevelwoodworkingschool.com
SUMMARY:Workbench Course 29/02/2020
DESCRIPTION:Two Day Workbench Course \nWould you like to have your own workbench\, to enable you to work in your own work area\, at your own pace and undisturbed? If your answer is yes\, then maybe this is the right opportunity for you to get the most important piece of equipment in place. \nThis is a two-day course in which you will construct your own workbench from 90mm x 90mm timber with 225mm x 60mm planks in the top. Some variables in size will be allowed. Some experience is necessary for this course. Material cost is all included with the exception of the vice. The cost of a vice is not included\, but you can purchase your own and fit it to the bench on the course. \nIf you need some advice on what vice to purchase please ask\, and we will guide you. You will complete a piece that will enable you to undertake your own woodwork projects in your own workspace.
URL:https://www.bevelwoodworkingschool.com/event/workbench-course-29-02-2020/
LOCATION:Bevel Woodworking School\, Fethard-on-Sea\,  Co. Wexford\, Ireland
CATEGORIES:Woodworking,Workbench
ATTACH;FMTTYPE=image/jpeg:https://www.bevelwoodworkingschool.com/wwssite/wp-content/uploads/2017/03/workbench-course.jpg
GEO:52.1923021;-6.8402183
X-APPLE-STRUCTURED-LOCATION;VALUE=URI;X-ADDRESS=Bevel Woodworking School Fethard-on-Sea  Co. Wexford Ireland;X-APPLE-RADIUS=500;X-TITLE=Fethard-on-Sea:geo:-6.8402183,52.1923021
END:VEVENT
BEGIN:VEVENT
DTSTART;TZID=Europe/London:20200209T090000
DTEND;TZID=Europe/London:20200209T170000
DTSTAMP:20260421T155703
CREATED:20191027T180453Z
LAST-MODIFIED:20200110T195044Z
UID:10000405-1581238800-1581267600@www.bevelwoodworkingschool.com
SUMMARY:Tool Sharpening and Tuning 09/02/2020
DESCRIPTION:One Day Tool Tune-Up \nThis course is designed to show you how to sharpen and fine-tune your own woodwork tools. \nIt is relevant for brand new and used tools. \nMost tools when purchased new are not fit for use and need the grinding angle to be corrected and other adjustments to be made. \nWe will focus on flat and carving woodworking chisels\, also a range of hand planes and the spokeshave. You are welcome to bring along your own tools on the day to sharpen and tune. \nThe course will facilitate you using a number of different sharpening methods\, which will include the electric waterstone\, the oilstone\, the diamond stone and the leather strop. You will also learn how to maintain each of the sharpening tools\, so that you can maintain your own tools at home.
URL:https://www.bevelwoodworkingschool.com/event/tool-sharpening-and-tuning-09-02-2020/
LOCATION:Bevel Woodworking School\, Fethard-on-Sea\,  Co. Wexford\, Ireland
CATEGORIES:Woodworking,Workbench
ATTACH;FMTTYPE=image/jpeg:https://www.bevelwoodworkingschool.com/wwssite/wp-content/uploads/2019/05/741C2FA8-DC46-42CC-86B7-6042C31D6F03-2-e1572199422498.jpg
GEO:52.1923021;-6.8402183
X-APPLE-STRUCTURED-LOCATION;VALUE=URI;X-ADDRESS=Bevel Woodworking School Fethard-on-Sea  Co. Wexford Ireland;X-APPLE-RADIUS=500;X-TITLE=Fethard-on-Sea:geo:-6.8402183,52.1923021
END:VEVENT
BEGIN:VEVENT
DTSTART;TZID=Europe/London:20191012T090000
DTEND;TZID=Europe/London:20191013T170000
DTSTAMP:20260421T155703
CREATED:20190724T191236Z
LAST-MODIFIED:20190727T171725Z
UID:10000400-1570870800-1570986000@www.bevelwoodworkingschool.com
SUMMARY:Mackintosh Chair  12/10/2019
DESCRIPTION:The world-renowned Argyle Chair was designed by Charles Rennie Mackintosh in 1897 for tearooms in Glasgow \nThis two-day course aims to make cabinet making accessible to everybody. If you have already done a course with Bevel Woodworking School it will be an advantage\, but it is not a necessity\, it’s only necessary that it appeals to you. \nThe classic Mortice and Tenon joint is the mainstay of this chair and you will be using a morticer to assist you in the assembly. You will also be using the hand plane\, block plane\, tenon saw\, jigsaw\, spokeshave\, chisels\, bobbin sander and more. \nYou will make your chair from solid Beech specially prepared for this project and you will take home your very own Mackintosh Chair\, crafted by you\, which will become a family Heirloom \nThe upholstery and finish will not be included in the two days\, but a seat blank is included which you can have upholstered to suit your own decor.
URL:https://www.bevelwoodworkingschool.com/event/mackintosh-chair-12-10-2019/
LOCATION:Bevel Woodworking School\, Fethard-on-Sea\,  Co. Wexford\, Ireland
CATEGORIES:Macintosh,Woodworking,Workbench
ATTACH;FMTTYPE=image/jpeg:https://www.bevelwoodworkingschool.com/wwssite/wp-content/uploads/2018/01/IMG_20180127_2043040-e1563995430428.jpg
GEO:52.1923021;-6.8402183
X-APPLE-STRUCTURED-LOCATION;VALUE=URI;X-ADDRESS=Bevel Woodworking School Fethard-on-Sea  Co. Wexford Ireland;X-APPLE-RADIUS=500;X-TITLE=Fethard-on-Sea:geo:-6.8402183,52.1923021
END:VEVENT
BEGIN:VEVENT
DTSTART;TZID=Europe/London:20190817T090000
DTEND;TZID=Europe/London:20190818T170000
DTSTAMP:20260421T155703
CREATED:20190516T211514Z
LAST-MODIFIED:20190522T093319Z
UID:10000392-1566032400-1566147600@www.bevelwoodworkingschool.com
SUMMARY:Workbench Course 17/08/2019
DESCRIPTION:Two Day Workbench Course \nSo would you like to have your own workbench\, to enable you to work in your own environment\, at your own pace and undisturbed? If yes is your answer then here are the details. \nThis is a two-day course in which you will construct your own workbench from 90mm x 90mm timber with 225mm x 60mm planks in the top. Some variables in size will be allowed. Some experience is necessary for this course. Material cost is all included with the exception of the vice. The cost of a vice is not included\, but you can purchase your own and fit it to the bench on the course. \nIf you need some advice on what vice to purchase please ask\, and we will guide you. You will complete a piece that will enable you to undertake your own woodwork projects in your own workspace.
URL:https://www.bevelwoodworkingschool.com/event/workbench-course-17-08-2019/
LOCATION:Bevel Woodworking School\, Fethard-on-Sea\,  Co. Wexford\, Ireland
CATEGORIES:Woodworking,Workbench
ATTACH;FMTTYPE=image/jpeg:https://www.bevelwoodworkingschool.com/wwssite/wp-content/uploads/2017/03/workbench-course.jpg
GEO:52.1923021;-6.8402183
X-APPLE-STRUCTURED-LOCATION;VALUE=URI;X-ADDRESS=Bevel Woodworking School Fethard-on-Sea  Co. Wexford Ireland;X-APPLE-RADIUS=500;X-TITLE=Fethard-on-Sea:geo:-6.8402183,52.1923021
END:VEVENT
END:VCALENDAR