BEGIN:VCALENDAR
VERSION:2.0
PRODID:-//Bevel Woodworking School - ECPv6.15.20//NONSGML v1.0//EN
CALSCALE:GREGORIAN
METHOD:PUBLISH
X-WR-CALNAME:Bevel Woodworking School
X-ORIGINAL-URL:https://www.bevelwoodworkingschool.com
X-WR-CALDESC:Events for Bevel Woodworking School
REFRESH-INTERVAL;VALUE=DURATION:PT1H
X-Robots-Tag:noindex
X-PUBLISHED-TTL:PT1H
BEGIN:VTIMEZONE
TZID:Europe/London
BEGIN:DAYLIGHT
TZOFFSETFROM:+0000
TZOFFSETTO:+0100
TZNAME:BST
DTSTART:20170326T010000
END:DAYLIGHT
BEGIN:STANDARD
TZOFFSETFROM:+0100
TZOFFSETTO:+0000
TZNAME:GMT
DTSTART:20171029T010000
END:STANDARD
BEGIN:DAYLIGHT
TZOFFSETFROM:+0000
TZOFFSETTO:+0100
TZNAME:BST
DTSTART:20180325T010000
END:DAYLIGHT
BEGIN:STANDARD
TZOFFSETFROM:+0100
TZOFFSETTO:+0000
TZNAME:GMT
DTSTART:20181028T010000
END:STANDARD
BEGIN:DAYLIGHT
TZOFFSETFROM:+0000
TZOFFSETTO:+0100
TZNAME:BST
DTSTART:20190331T010000
END:DAYLIGHT
BEGIN:STANDARD
TZOFFSETFROM:+0100
TZOFFSETTO:+0000
TZNAME:GMT
DTSTART:20191027T010000
END:STANDARD
END:VTIMEZONE
BEGIN:VEVENT
DTSTART;TZID=Europe/London:20180217T090000
DTEND;TZID=Europe/London:20180217T170000
DTSTAMP:20260420T043956
CREATED:20171119T123128Z
LAST-MODIFIED:20171212T150703Z
UID:10000342-1518858000-1518886800@www.bevelwoodworkingschool.com
SUMMARY:Bird House Course 17/02/2018
DESCRIPTION:Make this elegant birdhouse from Irish Redwood\, which has all the qualities to last outside in our Irish weather. Learn all the correct measurements to suit the birds and use new tools that you may not have tried previously. No experience necessary for this course. \n“Little by little the bird makes his nest with a little help from his friends”
URL:https://www.bevelwoodworkingschool.com/event/bird-house-course-17022018/
LOCATION:Bevel Woodworking School\, Fethard-on-Sea\,  Co. Wexford\, Ireland
ATTACH;FMTTYPE=image/jpeg:https://www.bevelwoodworkingschool.com/wwssite/wp-content/uploads/2017/11/IMG_0313-e1511094628915.jpg
GEO:52.1923021;-6.8402183
X-APPLE-STRUCTURED-LOCATION;VALUE=URI;X-ADDRESS=Bevel Woodworking School Fethard-on-Sea  Co. Wexford Ireland;X-APPLE-RADIUS=500;X-TITLE=Fethard-on-Sea:geo:-6.8402183,52.1923021
END:VEVENT
BEGIN:VEVENT
DTSTART;TZID=Europe/London:20180210T090000
DTEND;TZID=Europe/London:20180211T170000
DTSTAMP:20260420T043956
CREATED:20171117T221243Z
LAST-MODIFIED:20180118T180306Z
UID:10000340-1518253200-1518368400@www.bevelwoodworkingschool.com
SUMMARY:Adirondack Chair Course 10/02/2018
DESCRIPTION:The 2 day course (9am to 5pm each day) will see you make the beautiful Adirondack chair. Made from Scandinavian pine you will build a chair that will last for years. With step-by-step instructions from a master craftsman you will learn how to use a variety of tools including a handsaw\, hand plane\, jigsaw\, spokeshave\, bevel\, battery screw gun\, wood chisel\, measuring tape and square
URL:https://www.bevelwoodworkingschool.com/event/adirondack-chair-course-10022018/
LOCATION:Bevel Woodworking School\, Fethard-on-Sea\,  Co. Wexford\, Ireland
ATTACH;FMTTYPE=image/jpeg:https://www.bevelwoodworkingschool.com/wwssite/wp-content/uploads/2017/02/adirondak-chair-class.jpg
GEO:52.1923021;-6.8402183
X-APPLE-STRUCTURED-LOCATION;VALUE=URI;X-ADDRESS=Bevel Woodworking School Fethard-on-Sea  Co. Wexford Ireland;X-APPLE-RADIUS=500;X-TITLE=Fethard-on-Sea:geo:-6.8402183,52.1923021
END:VEVENT
BEGIN:VEVENT
DTSTART;TZID=Europe/London:20180127T090000
DTEND;TZID=Europe/London:20180127T170000
DTSTAMP:20260420T043956
CREATED:20171117T220713Z
LAST-MODIFIED:20171223T134020Z
UID:10000339-1517043600-1517072400@www.bevelwoodworkingschool.com
SUMMARY:Carving a Woodspirit  27/01/2018
DESCRIPTION:This one day course is a very hands on experience\, using carving chisels and a timber mallet. The project is different for everybody because each finished piece is unique. This is a great day for clearing your mind and learning new skills.
URL:https://www.bevelwoodworkingschool.com/event/carving-woodspirit-27012018/
LOCATION:Bevel Woodworking School\, Fethard-on-Sea\,  Co. Wexford\, Ireland
ATTACH;FMTTYPE=image/jpeg:https://www.bevelwoodworkingschool.com/wwssite/wp-content/uploads/2017/11/IMG_0397-e1510956189457.jpg
GEO:52.1923021;-6.8402183
X-APPLE-STRUCTURED-LOCATION;VALUE=URI;X-ADDRESS=Bevel Woodworking School Fethard-on-Sea  Co. Wexford Ireland;X-APPLE-RADIUS=500;X-TITLE=Fethard-on-Sea:geo:-6.8402183,52.1923021
END:VEVENT
END:VCALENDAR