BEGIN:VCALENDAR
VERSION:2.0
PRODID:-//Bevel Woodworking School - ECPv6.15.20//NONSGML v1.0//EN
CALSCALE:GREGORIAN
METHOD:PUBLISH
X-WR-CALNAME:Bevel Woodworking School
X-ORIGINAL-URL:https://www.bevelwoodworkingschool.com
X-WR-CALDESC:Events for Bevel Woodworking School
REFRESH-INTERVAL;VALUE=DURATION:PT1H
X-Robots-Tag:noindex
X-PUBLISHED-TTL:PT1H
BEGIN:VTIMEZONE
TZID:Europe/London
BEGIN:DAYLIGHT
TZOFFSETFROM:+0000
TZOFFSETTO:+0100
TZNAME:BST
DTSTART:20250330T010000
END:DAYLIGHT
BEGIN:STANDARD
TZOFFSETFROM:+0100
TZOFFSETTO:+0000
TZNAME:GMT
DTSTART:20251026T010000
END:STANDARD
BEGIN:DAYLIGHT
TZOFFSETFROM:+0000
TZOFFSETTO:+0100
TZNAME:BST
DTSTART:20260329T010000
END:DAYLIGHT
BEGIN:STANDARD
TZOFFSETFROM:+0100
TZOFFSETTO:+0000
TZNAME:GMT
DTSTART:20261025T010000
END:STANDARD
BEGIN:DAYLIGHT
TZOFFSETFROM:+0000
TZOFFSETTO:+0100
TZNAME:BST
DTSTART:20270328T010000
END:DAYLIGHT
BEGIN:STANDARD
TZOFFSETFROM:+0100
TZOFFSETTO:+0000
TZNAME:GMT
DTSTART:20271031T010000
END:STANDARD
END:VTIMEZONE
BEGIN:VEVENT
DTSTART;TZID=Europe/London:20260110T090000
DTEND;TZID=Europe/London:20260110T170000
DTSTAMP:20260421T170540
CREATED:20251014T110938Z
LAST-MODIFIED:20251014T133401Z
UID:10000566-1768035600-1768064400@www.bevelwoodworkingschool.com
SUMMARY:Three Legged Stool    10 January 2026  (Saturday)
DESCRIPTION:Making a Three-legged Stool \nThis new one-day course is a great introduction to the woodworking workshop. \nThe stool is a straightforward project and is suitable for beginners or for anyone who wishes to have a creative day in a workshop environment. \nFacilitated by craftsman  Tommy Kelly\, you will be guided through the process using a range of woodworking tools\, including a jigsaw\, a spokeshave\, a compass\, a protractor\, a Tennon cutter\, a tennon saw and wood chisels. \nYou will complete a beautiful stool approximately 10 inches in diameter and 10 inches high\, and take it home to use as you wish. \n  \nCourse Cost €110.00 \nThe booking Deposit is 50%\, balance payable when you attend.
URL:https://www.bevelwoodworkingschool.com/event/three-legged-stool-10-january-2026-saturday/
LOCATION:Bevel Woodworking School\, Fethard-on-Sea\,  Co. Wexford\, Ireland
ATTACH;FMTTYPE=image/jpeg:https://www.bevelwoodworkingschool.com/wwssite/wp-content/uploads/2025/02/3leg-scaled-e1740581259321.jpg
GEO:52.1923021;-6.8402183
X-APPLE-STRUCTURED-LOCATION;VALUE=URI;X-ADDRESS=Bevel Woodworking School Fethard-on-Sea  Co. Wexford Ireland;X-APPLE-RADIUS=500;X-TITLE=Fethard-on-Sea:geo:-6.8402183,52.1923021
END:VEVENT
BEGIN:VEVENT
DTSTART;VALUE=DATE:20260117
DTEND;VALUE=DATE:20260119
DTSTAMP:20260421T170540
CREATED:20251014T125441Z
LAST-MODIFIED:20260104T184422Z
UID:10000569-1768608000-1768780799@www.bevelwoodworkingschool.com
SUMMARY:Adirondack Chair Course    17-18 January 2026   (Saturday / Sunday)
DESCRIPTION:Two-Day Adirondack Chair Course.    \nThis is a 2-day course (9.00 am to 5.00 pm each day). During the two days\, you make the beautiful Adirondack chair. Using Scandinavian pine you will be building a chair that will last for many years and will be a favourite for all family members. With step-by-step instructions from a master craftsman\, you will be learning how to use a variety of tools including a handsaw\, hand plane\, jigsaw\, spokeshave\, bevel\, battery screw gun\, wood chisel\, measuring tape\, and square. \nYou’ll be working in a fully equipped workshop\, meeting some new people\, as you work through the class together. You will be surprised at how much you will enjoy the process and taking home your chair will give you a great sense of achievement. \nThe class size is restricted to eight people\, so each person will have plenty of room to work. The workshop is spacious and each person will work on their own bench. \nAs it’s a two-day course\, you have the perfect chance to see some of Hook Peninsula and its spectacular beaches\, historic sites\, and visitor attractions. Take a day or two extra to enjoy the area. \nCourse Cost €280.00 \nThe booking Deposit is 50%\, balance payable when you attend.
URL:https://www.bevelwoodworkingschool.com/event/adirondack-chair-course-17-18-january-2026-saturday-sunday-2/
ATTACH;FMTTYPE=image/jpeg:https://www.bevelwoodworkingschool.com/wwssite/wp-content/uploads/2025/02/Ado3-scaled-e1740579867458.jpg
END:VEVENT
END:VCALENDAR