BEGIN:VCALENDAR
VERSION:2.0
PRODID:-//Bevel Woodworking School - ECPv6.15.20//NONSGML v1.0//EN
CALSCALE:GREGORIAN
METHOD:PUBLISH
X-WR-CALNAME:Bevel Woodworking School
X-ORIGINAL-URL:https://www.bevelwoodworkingschool.com
X-WR-CALDESC:Events for Bevel Woodworking School
REFRESH-INTERVAL;VALUE=DURATION:PT1H
X-Robots-Tag:noindex
X-PUBLISHED-TTL:PT1H
BEGIN:VTIMEZONE
TZID:Europe/London
BEGIN:DAYLIGHT
TZOFFSETFROM:+0000
TZOFFSETTO:+0100
TZNAME:BST
DTSTART:20250330T010000
END:DAYLIGHT
BEGIN:STANDARD
TZOFFSETFROM:+0100
TZOFFSETTO:+0000
TZNAME:GMT
DTSTART:20251026T010000
END:STANDARD
BEGIN:DAYLIGHT
TZOFFSETFROM:+0000
TZOFFSETTO:+0100
TZNAME:BST
DTSTART:20260329T010000
END:DAYLIGHT
BEGIN:STANDARD
TZOFFSETFROM:+0100
TZOFFSETTO:+0000
TZNAME:GMT
DTSTART:20261025T010000
END:STANDARD
BEGIN:DAYLIGHT
TZOFFSETFROM:+0000
TZOFFSETTO:+0100
TZNAME:BST
DTSTART:20270328T010000
END:DAYLIGHT
BEGIN:STANDARD
TZOFFSETFROM:+0100
TZOFFSETTO:+0000
TZNAME:GMT
DTSTART:20271031T010000
END:STANDARD
END:VTIMEZONE
BEGIN:VEVENT
DTSTART;VALUE=DATE:20260314
DTEND;VALUE=DATE:20260316
DTSTAMP:20260421T140208
CREATED:20251014T134400Z
LAST-MODIFIED:20251014T134400Z
UID:10000574-1773446400-1773619199@www.bevelwoodworkingschool.com
SUMMARY:Workbench Course   14-15 March  2026  (Saturday/ Sunday)
DESCRIPTION:Two-Day Workbench Course   \nWould you like to have your own workbench\, to enable you to work in your work area\, at your own pace and undisturbed? If your answer is yes\, then maybe this is the right opportunity for you to get the most important piece of equipment in place. \nThis is a two-day course in which you will construct your own workbench from 90mm x 90mm timber with 225mm x 60mm planks in the top. Some experience is necessary for this course. \nBench Size Information: \nSome variables in size will be available\, the standard bench length for the course is 5ft 6in long.You can choose a shorter length if required to suit your work space. If you require a bench longer than 5ft 6in\, that will incur an additional material cost. Please provide bench length required for a quote for additional cost. Maximum bench length available is 7ft long. \nVice Information: \nThe cost of the vice is not included\, however you can purchase your own vice and fit it to the bench on the course. \nIf you need some advice on what vice to purchase please ask\, and we will guide you. You will complete a piece that will enable you to undertake your own woodwork projects in your own workspace. \nCourse Cost €500.00
URL:https://www.bevelwoodworkingschool.com/event/workbench-course-14-15-march-2026-saturday-sunday/
LOCATION:Bevel Woodworking School\, Fethard-on-Sea\,  Co. Wexford\, Ireland
ATTACH;FMTTYPE=image/jpeg:https://www.bevelwoodworkingschool.com/wwssite/wp-content/uploads/2025/02/Workbench0724-scaled-e1740574474316.jpg
GEO:52.1923021;-6.8402183
X-APPLE-STRUCTURED-LOCATION;VALUE=URI;X-ADDRESS=Bevel Woodworking School Fethard-on-Sea  Co. Wexford Ireland;X-APPLE-RADIUS=500;X-TITLE=Fethard-on-Sea:geo:-6.8402183,52.1923021
END:VEVENT
BEGIN:VEVENT
DTSTART;TZID=Europe/London:20260318T080000
DTEND;TZID=Europe/London:20260318T170000
DTSTAMP:20260421T140208
CREATED:20260318T221014Z
LAST-MODIFIED:20260318T221014Z
UID:10000581-1773820800-1773853200@www.bevelwoodworkingschool.com
SUMMARY:Carving a Woodspirit    02 May  2026   ( Saturday )
DESCRIPTION:This is a wonderful introduction to the Workshop environment. \nCarving the Woodspirit is one-day course. You will discover that it is a very hands-on experience\, but not just your hands\, your full attention will be engaged. You will be using carving chisels and a timber mallet\, and your energy and imagination will be drawn in as you progress. Your own creativity will have space to develop\, with careful guidance and plenty of encouragement from your tutor Tommy. The project is different for everybody who takes part because each finished piece is unique. \nThis is a great day out\, you will enjoy learning a new skill or improve your carving if you have already tried it before. You will enjoy focusing your mind on the task and meeting a few new people and you will be surprised at what you can create. \nTotal Course Cost €110.00 \nThe booking Deposit is 50%\, balance payable when you attend.
URL:https://www.bevelwoodworkingschool.com/event/carving-a-woodspirit-02-may-2026-saturday/
LOCATION:Bevel Woodworking School\, Fethard-on-Sea\,  Co. Wexford\, Ireland
ATTACH;FMTTYPE=image/heic:https://www.bevelwoodworkingschool.com/wwssite/wp-content/uploads/2026/03/IMG_8663-scaled-e1773871798309.jpg
GEO:52.1923021;-6.8402183
X-APPLE-STRUCTURED-LOCATION;VALUE=URI;X-ADDRESS=Bevel Woodworking School Fethard-on-Sea  Co. Wexford Ireland;X-APPLE-RADIUS=500;X-TITLE=Fethard-on-Sea:geo:-6.8402183,52.1923021
END:VEVENT
BEGIN:VEVENT
DTSTART;VALUE=DATE:20260328
DTEND;VALUE=DATE:20260330
DTSTAMP:20260421T140208
CREATED:20251014T133737Z
LAST-MODIFIED:20260112T124957Z
UID:10000573-1774656000-1774828799@www.bevelwoodworkingschool.com
SUMMARY:Adirondack Chair Course    28-29  March 2026   (Saturday / Sunday)
DESCRIPTION:Two-Day Adirondack Chair Course.    \nThis is a 2-day course (9.00 am to 5.00 pm each day). During the two days\, you make the beautiful Adirondack chair. Using Scandinavian pine you will be building a chair that will last for many years and will be a favourite for all family members. With step-by-step instructions from a master craftsman\, you will be learning how to use a variety of tools including a handsaw\, hand plane\, jigsaw\, spokeshave\, bevel\, battery screw gun\, wood chisel\, measuring tape\, and square. \nYou’ll be working in a fully equipped workshop\, meeting some new people\, as you work through the class together. You will be surprised at how much you will enjoy the process and taking home your chair will give you a great sense of achievement. \nThe class size is restricted to eight people\, so each person will have plenty of room to work. The workshop is spacious and each person will work on their own bench. \nAs it’s a two-day course\, you have the perfect chance to see some of Hook Peninsula and its spectacular beaches\, historic sites\, and visitor attractions. Take a day or two extra to enjoy the area. \nCourse Cost €280.00 \nThe booking Deposit is 50%\, balance payable when you attend.
URL:https://www.bevelwoodworkingschool.com/event/adirondack-chair-course-14-15-march-2026-saturday-sunday/
LOCATION:Bevel Woodworking School\, Fethard-on-Sea\,  Co. Wexford\, Ireland
ATTACH;FMTTYPE=image/jpeg:https://www.bevelwoodworkingschool.com/wwssite/wp-content/uploads/2024/11/ADCHAIR3-scaled-e1730895416153.jpg
GEO:52.1923021;-6.8402183
X-APPLE-STRUCTURED-LOCATION;VALUE=URI;X-ADDRESS=Bevel Woodworking School Fethard-on-Sea  Co. Wexford Ireland;X-APPLE-RADIUS=500;X-TITLE=Fethard-on-Sea:geo:-6.8402183,52.1923021
END:VEVENT
END:VCALENDAR